BEGIN:VCALENDAR
VERSION:2.0
PRODID:-//Welcome to Beckenham Photographic Society - ECPv6.15.15//NONSGML v1.0//EN
CALSCALE:GREGORIAN
METHOD:PUBLISH
X-WR-CALNAME:Welcome to Beckenham Photographic Society
X-ORIGINAL-URL:https://bps9.beckenhamphotosoc.org.uk
X-WR-CALDESC:Events for Welcome to Beckenham Photographic Society
REFRESH-INTERVAL;VALUE=DURATION:PT1H
X-Robots-Tag:noindex
X-PUBLISHED-TTL:PT1H
BEGIN:VTIMEZONE
TZID:UTC
BEGIN:STANDARD
TZOFFSETFROM:+0000
TZOFFSETTO:+0000
TZNAME:UTC
DTSTART:20220101T000000
END:STANDARD
END:VTIMEZONE
BEGIN:VEVENT
DTSTART;TZID=UTC:20230503T200000
DTEND;TZID=UTC:20230503T200000
DTSTAMP:20260425T112403
CREATED:20220713T193637Z
LAST-MODIFIED:20230612T194515Z
UID:4031-1683144000-1683144000@bps9.beckenhamphotosoc.org.uk
SUMMARY:AGM
DESCRIPTION:
URL:https://bps9.beckenhamphotosoc.org.uk/event/agm-2/
LOCATION:Beckenham
CATEGORIES:Meetings,Normal Meeting
END:VEVENT
BEGIN:VEVENT
DTSTART;TZID=UTC:20230510T200000
DTEND;TZID=UTC:20230510T200000
DTSTAMP:20260425T112403
CREATED:20220713T193637Z
LAST-MODIFIED:20230420T192302Z
UID:4032-1683748800-1683748800@bps9.beckenhamphotosoc.org.uk
SUMMARY:Evening Out
DESCRIPTION:A chance to take some images and have a meetup after the end of the season.
URL:https://bps9.beckenhamphotosoc.org.uk/event/end-of-season-social-event/
LOCATION:Beckenham
END:VEVENT
BEGIN:VEVENT
DTSTART;TZID=UTC:20230612T080000
DTEND;TZID=UTC:20230612T170000
DTSTAMP:20260425T112403
CREATED:20230612T193738Z
LAST-MODIFIED:20230612T193738Z
UID:5502-1686556800-1686589200@bps9.beckenhamphotosoc.org.uk
SUMMARY:test test
DESCRIPTION:
URL:https://bps9.beckenhamphotosoc.org.uk/event/test-test/
LOCATION:Beckenham
CATEGORIES:Test Events
END:VEVENT
BEGIN:VEVENT
DTSTART;TZID=UTC:20230613T080000
DTEND;TZID=UTC:20230613T170000
DTSTAMP:20260425T112403
CREATED:20230612T193226Z
LAST-MODIFIED:20230612T193226Z
UID:5499-1686643200-1686675600@bps9.beckenhamphotosoc.org.uk
SUMMARY:test event
DESCRIPTION:testing
URL:https://bps9.beckenhamphotosoc.org.uk/event/test-event/
LOCATION:Beckenham
END:VEVENT
BEGIN:VEVENT
DTSTART;TZID=UTC:20230614T080000
DTEND;TZID=UTC:20230614T170000
DTSTAMP:20260425T112403
CREATED:20230612T193854Z
LAST-MODIFIED:20230612T193854Z
UID:5504-1686729600-1686762000@bps9.beckenhamphotosoc.org.uk
SUMMARY:testingt
DESCRIPTION:
URL:https://bps9.beckenhamphotosoc.org.uk/event/testingt/
LOCATION:Beckenham
CATEGORIES:Test Events
END:VEVENT
BEGIN:VEVENT
DTSTART;TZID=UTC:20230621T130000
DTEND;TZID=UTC:20230621T170000
DTSTAMP:20260425T112403
CREATED:20230612T192428Z
LAST-MODIFIED:20230612T194444Z
UID:5495-1687352400-1687366800@bps9.beckenhamphotosoc.org.uk
SUMMARY:Visit to RHS
DESCRIPTION:Visit to RHS Botanical Art Exhibition
URL:https://bps9.beckenhamphotosoc.org.uk/event/5495/
LOCATION:Ssstchi Gallery\, Kings Road
CATEGORIES:Trips
END:VEVENT
BEGIN:VEVENT
DTSTART;TZID=UTC:20230902T143000
DTEND;TZID=UTC:20230902T163000
DTSTAMP:20260425T112403
CREATED:20230706T222354Z
LAST-MODIFIED:20230810T203331Z
UID:5577-1693665000-1693672200@bps9.beckenhamphotosoc.org.uk
SUMMARY:Welcome Back Tea Party
DESCRIPTION:Members\, prospective members and guests are welcome to join us at the hall for a tea party to begin the season.
URL:https://bps9.beckenhamphotosoc.org.uk/event/welcome-back-tea-party/
LOCATION:St Johns Church Hall\, Eden Park Road\, Beckenham BR3 3JN\, St Johns Church Hall\, Beckenham\, Kent\, BR3 3JN\, United Kingdom
END:VEVENT
BEGIN:VEVENT
DTSTART;TZID=UTC:20230906T194500
DTEND;TZID=UTC:20230906T220000
DTSTAMP:20260425T112403
CREATED:20230706T222624Z
LAST-MODIFIED:20230706T222624Z
UID:5579-1694029500-1694037600@bps9.beckenhamphotosoc.org.uk
SUMMARY:An evening with Cathy Roberts FRPS
DESCRIPTION:Cathy is a long standing member of BPS\, and is a very well-respected photographer known throughout the country. \nAlways worth listening to.
URL:https://bps9.beckenhamphotosoc.org.uk/event/an-evening-with-cathy-roberts-frps/
LOCATION:St Johns Church Hall\, Eden Park Road\, Beckenham BR3 3JN\, St Johns Church Hall\, Beckenham\, Kent\, BR3 3JN\, United Kingdom
END:VEVENT
BEGIN:VEVENT
DTSTART;TZID=UTC:20230913T194500
DTEND;TZID=UTC:20230913T220000
DTSTAMP:20260425T112403
CREATED:20230713T172143Z
LAST-MODIFIED:20230713T201957Z
UID:5648-1694634300-1694642400@bps9.beckenhamphotosoc.org.uk
SUMMARY:A Photographer's life and work in Namibia with Scott Hurd
DESCRIPTION:Given that Scott is in Namibia\, this evening will be held over zoom\, transmitted INTO THE HALL
URL:https://bps9.beckenhamphotosoc.org.uk/event/a-photographers-life-and-work-in-namibia-with-scott-hurd/
LOCATION:St Johns Church Hall\, Eden Park Road\, Beckenham BR3 3JN\, St Johns Church Hall\, Beckenham\, Kent\, BR3 3JN\, United Kingdom
END:VEVENT
BEGIN:VEVENT
DTSTART;TZID=UTC:20230920T194500
DTEND;TZID=UTC:20230920T220000
DTSTAMP:20260425T112403
CREATED:20230713T172308Z
LAST-MODIFIED:20230808T155444Z
UID:5650-1695239100-1695247200@bps9.beckenhamphotosoc.org.uk
SUMMARY:The letterbox fiend strikes again with Philip Quarry FRPS
DESCRIPTION:
URL:https://bps9.beckenhamphotosoc.org.uk/event/the-letterbox-fiend-strikes-again-with-philip-quarry-frps/
LOCATION:St Johns Church Hall\, Eden Park Road\, Beckenham BR3 3JN\, St Johns Church Hall\, Beckenham\, Kent\, BR3 3JN\, United Kingdom
END:VEVENT
BEGIN:VEVENT
DTSTART;TZID=UTC:20230927T194500
DTEND;TZID=UTC:20230927T220000
DTSTAMP:20260425T112403
CREATED:20230713T172448Z
LAST-MODIFIED:20230713T172448Z
UID:5652-1695843900-1695852000@bps9.beckenhamphotosoc.org.uk
SUMMARY:Skills Carousel with Members
DESCRIPTION:This is a chance to get advice/learn new techniques from a number of members in the hall.
URL:https://bps9.beckenhamphotosoc.org.uk/event/skills-carousel-with-members/
LOCATION:St Johns Church Hall\, Eden Park Road\, Beckenham BR3 3JN\, St Johns Church Hall\, Beckenham\, Kent\, BR3 3JN\, United Kingdom
END:VEVENT
BEGIN:VEVENT
DTSTART;TZID=UTC:20231004T194500
DTEND;TZID=UTC:20231004T220000
DTSTAMP:20260425T112403
CREATED:20230713T172706Z
LAST-MODIFIED:20230713T172706Z
UID:5654-1696448700-1696456800@bps9.beckenhamphotosoc.org.uk
SUMMARY:Round 1 PDI Comp\, judged by Marcus Scott-Taggart
DESCRIPTION:
URL:https://bps9.beckenhamphotosoc.org.uk/event/round-1-pdi-comp-judged-by-marcus-scott-taggart/
LOCATION:Beckenham
END:VEVENT
BEGIN:VEVENT
DTSTART;TZID=UTC:20231011T194500
DTEND;TZID=UTC:20231011T220000
DTSTAMP:20260425T112403
CREATED:20230713T172841Z
LAST-MODIFIED:20230713T172841Z
UID:5656-1697053500-1697061600@bps9.beckenhamphotosoc.org.uk
SUMMARY:Feel the Land - Photography and Emotion with Astrid McGeechan
DESCRIPTION:
URL:https://bps9.beckenhamphotosoc.org.uk/event/feel-the-land-photography-and-emotion-with-astrid-mcgeechan/
LOCATION:Beckenham
END:VEVENT
BEGIN:VEVENT
DTSTART;TZID=UTC:20231018T194500
DTEND;TZID=UTC:20231018T220000
DTSTAMP:20260425T112403
CREATED:20230713T173621Z
LAST-MODIFIED:20230713T173621Z
UID:5661-1697658300-1697666400@bps9.beckenhamphotosoc.org.uk
SUMMARY:Round 1 Print Competition\, judged by Pauline Martinedale
DESCRIPTION:
URL:https://bps9.beckenhamphotosoc.org.uk/event/round-1-print-competition-judged-by-pauline-martinedale/
LOCATION:St Johns Church Hall\, Eden Park Road\, Beckenham BR3 3JN\, St Johns Church Hall\, Beckenham\, Kent\, BR3 3JN\, United Kingdom
END:VEVENT
BEGIN:VEVENT
DTSTART;TZID=UTC:20231025T194500
DTEND;TZID=UTC:20231025T220000
DTSTAMP:20260425T112403
CREATED:20230713T173724Z
LAST-MODIFIED:20230713T173724Z
UID:5663-1698263100-1698271200@bps9.beckenhamphotosoc.org.uk
SUMMARY:Astrophotography with Les Brand
DESCRIPTION:
URL:https://bps9.beckenhamphotosoc.org.uk/event/astrophotography-with-les-brand/
LOCATION:Beckenham
END:VEVENT
BEGIN:VEVENT
DTSTART;TZID=UTC:20231101T194500
DTEND;TZID=UTC:20231101T220000
DTSTAMP:20260425T112403
CREATED:20230713T173955Z
LAST-MODIFIED:20230713T173955Z
UID:5665-1698867900-1698876000@bps9.beckenhamphotosoc.org.uk
SUMMARY:Beyond the Summit with Chris Palmer FRPS\, EFIAP\, DPAGB
DESCRIPTION:
URL:https://bps9.beckenhamphotosoc.org.uk/event/beyond-the-summit-with-chris-palmer-frps-efiap-dpagb/
LOCATION:Beckenham
END:VEVENT
BEGIN:VEVENT
DTSTART;TZID=UTC:20231108T194500
DTEND;TZID=UTC:20231108T220000
DTSTAMP:20260425T112403
CREATED:20230713T174310Z
LAST-MODIFIED:20230713T174310Z
UID:5669-1699472700-1699480800@bps9.beckenhamphotosoc.org.uk
SUMMARY:Round 2 PDI Competition\, judged by Dr Peter Walmsley
DESCRIPTION:
URL:https://bps9.beckenhamphotosoc.org.uk/event/round-2-pdi-competition-judged-by-dr-peter-walmsley/
LOCATION:Beckenham
END:VEVENT
BEGIN:VEVENT
DTSTART;TZID=UTC:20231115T194500
DTEND;TZID=UTC:20231115T220000
DTSTAMP:20260425T112403
CREATED:20230713T174141Z
LAST-MODIFIED:20231111T204450Z
UID:5667-1700077500-1700085600@bps9.beckenhamphotosoc.org.uk
SUMMARY:Members Evening - Feedback Evening
DESCRIPTION:An informal evening whereby members can show a couple of images and receive feedback from the members.
URL:https://bps9.beckenhamphotosoc.org.uk/event/members-evening-still-life/
LOCATION:St Johns Church Hall\, Eden Park Road\, Beckenham BR3 3JN\, St Johns Church Hall\, Beckenham\, Kent\, BR3 3JN\, United Kingdom
END:VEVENT
BEGIN:VEVENT
DTSTART;TZID=UTC:20231122T194500
DTEND;TZID=UTC:20231122T220000
DTSTAMP:20260425T112403
CREATED:20230713T174417Z
LAST-MODIFIED:20230713T174417Z
UID:5671-1700682300-1700690400@bps9.beckenhamphotosoc.org.uk
SUMMARY:The way I see it with Rosemary Wilman HonFRPS
DESCRIPTION:
URL:https://bps9.beckenhamphotosoc.org.uk/event/the-way-i-see-it-with-rosemary-wilman-honfrps/
LOCATION:Beckenham
END:VEVENT
BEGIN:VEVENT
DTSTART;TZID=UTC:20231129T194500
DTEND;TZID=UTC:20231129T220000
DTSTAMP:20260425T112403
CREATED:20230713T174734Z
LAST-MODIFIED:20230713T174734Z
UID:5673-1701287100-1701295200@bps9.beckenhamphotosoc.org.uk
SUMMARY:Dennis Berry Panel Competition\, commentary by Robin Hudson
DESCRIPTION:This is a competition of panels of 5-9 PDIs on a theme\, with commentary by an outside ‘judge’\, but voted on by the members. \nThey are displayed digitally in sequence\, but can be a panel or a chronological sequence. \n 
URL:https://bps9.beckenhamphotosoc.org.uk/event/dennis-berry-panel-competition-commentary-by-robin-hudson/
LOCATION:Beckenham
END:VEVENT
BEGIN:VEVENT
DTSTART;TZID=UTC:20231206T194500
DTEND;TZID=UTC:20231206T220000
DTSTAMP:20260425T112403
CREATED:20230713T174853Z
LAST-MODIFIED:20230713T174853Z
UID:5675-1701891900-1701900000@bps9.beckenhamphotosoc.org.uk
SUMMARY:The Silk Road today with David Smith LRPS\, CPAGB
DESCRIPTION:
URL:https://bps9.beckenhamphotosoc.org.uk/event/the-silk-road-today-with-david-smith-lrps-cpagb/
LOCATION:Beckenham
END:VEVENT
BEGIN:VEVENT
DTSTART;TZID=UTC:20231213T194500
DTEND;TZID=UTC:20231213T220000
DTSTAMP:20260425T112403
CREATED:20230713T175011Z
LAST-MODIFIED:20230713T175011Z
UID:5677-1702496700-1702504800@bps9.beckenhamphotosoc.org.uk
SUMMARY:Round 2 Print Competition\, judged by Ann Healey FRPS
DESCRIPTION:
URL:https://bps9.beckenhamphotosoc.org.uk/event/round-2-print-competition-judged-by-ann-healey-frps/
LOCATION:Beckenham
END:VEVENT
BEGIN:VEVENT
DTSTART;TZID=UTC:20231220T194500
DTEND;TZID=UTC:20231220T220000
DTSTAMP:20260425T112403
CREATED:20230713T175122Z
LAST-MODIFIED:20230713T175122Z
UID:5679-1703101500-1703109600@bps9.beckenhamphotosoc.org.uk
SUMMARY:Xmas Social
DESCRIPTION:Including showing Slides from BPS Past
URL:https://bps9.beckenhamphotosoc.org.uk/event/xmas-social/
LOCATION:Beckenham
END:VEVENT
BEGIN:VEVENT
DTSTART;TZID=UTC:20240103T194500
DTEND;TZID=UTC:20240103T220000
DTSTAMP:20260425T112403
CREATED:20230713T175254Z
LAST-MODIFIED:20230713T175254Z
UID:5681-1704311100-1704319200@bps9.beckenhamphotosoc.org.uk
SUMMARY:President's evening
DESCRIPTION:Come along to see what El Presidente has in store!
URL:https://bps9.beckenhamphotosoc.org.uk/event/presidents-evening-3/
LOCATION:Beckenham
END:VEVENT
BEGIN:VEVENT
DTSTART;TZID=UTC:20240110T080000
DTEND;TZID=UTC:20240110T170000
DTSTAMP:20260425T112403
CREATED:20230713T175404Z
LAST-MODIFIED:20230713T175404Z
UID:5683-1704873600-1704906000@bps9.beckenhamphotosoc.org.uk
SUMMARY:Round 3 PDI Competition\, judged by Ken Scott
DESCRIPTION:
URL:https://bps9.beckenhamphotosoc.org.uk/event/round-3-pdi-competition-judged-by-ken-scott/
LOCATION:Beckenham
END:VEVENT
BEGIN:VEVENT
DTSTART;TZID=UTC:20240117T194500
DTEND;TZID=UTC:20240117T220000
DTSTAMP:20260425T112403
CREATED:20230713T175508Z
LAST-MODIFIED:20230713T175508Z
UID:5685-1705520700-1705528800@bps9.beckenhamphotosoc.org.uk
SUMMARY:Darwin and Photography with Brian Starbuck
DESCRIPTION:
URL:https://bps9.beckenhamphotosoc.org.uk/event/darwin-and-photography-with-brian-starbuck/
LOCATION:Beckenham
END:VEVENT
BEGIN:VEVENT
DTSTART;TZID=UTC:20240124T194500
DTEND;TZID=UTC:20240124T220000
DTSTAMP:20260425T112403
CREATED:20230713T175625Z
LAST-MODIFIED:20230713T175625Z
UID:5687-1706125500-1706133600@bps9.beckenhamphotosoc.org.uk
SUMMARY:Round 3 Print Competition\, judged by Tim Morland
DESCRIPTION:
URL:https://bps9.beckenhamphotosoc.org.uk/event/round-3-print-competition-judged-by-tim-morland/
LOCATION:Beckenham
END:VEVENT
BEGIN:VEVENT
DTSTART;TZID=UTC:20240131T080000
DTEND;TZID=UTC:20240131T170000
DTSTAMP:20260425T112403
CREATED:20230713T175828Z
LAST-MODIFIED:20230713T175855Z
UID:5689-1706688000-1706720400@bps9.beckenhamphotosoc.org.uk
SUMMARY:The View from the Pit with Simon Reed
DESCRIPTION:Simon is an Air Traffic Controller by day\,  and Music Photographer by night. \nHe is highly recommended for anyone interested in concert photography as a hobby\, por even semi-professionally.
URL:https://bps9.beckenhamphotosoc.org.uk/event/the-view-from-the-pit-with-simon-reed/
LOCATION:Beckenham
END:VEVENT
BEGIN:VEVENT
DTSTART;TZID=UTC:20240207T194500
DTEND;TZID=UTC:20240207T220000
DTSTAMP:20260425T112403
CREATED:20230713T180125Z
LAST-MODIFIED:20230713T180125Z
UID:5692-1707335100-1707343200@bps9.beckenhamphotosoc.org.uk
SUMMARY:Perigny Exchange Evening
DESCRIPTION:A fun evening where we show both ours and our twin cluib\, Perigny’s\, images on a theme\, which this year is ‘A La Frontiere’\, which can translate as borders/edge etc.
URL:https://bps9.beckenhamphotosoc.org.uk/event/perigny-exchange-evening/
LOCATION:Beckenham
END:VEVENT
BEGIN:VEVENT
DTSTART;TZID=UTC:20240214T194500
DTEND;TZID=UTC:20240214T220000
DTSTAMP:20260425T112403
CREATED:20230713T180347Z
LAST-MODIFIED:20230713T180347Z
UID:5694-1707939900-1707948000@bps9.beckenhamphotosoc.org.uk
SUMMARY:Annual Exhibition - Judged by Tony Bramley FRPS
DESCRIPTION:This will be held again at the exhibition.
URL:https://bps9.beckenhamphotosoc.org.uk/event/annual-exhibition-judged-by-tony-bramley-frps/
LOCATION:St Johns Church Hall\, Eden Park Road\, Beckenham BR3 3JN\, St Johns Church Hall\, Beckenham\, Kent\, BR3 3JN\, United Kingdom
END:VEVENT
END:VCALENDAR