BEGIN:VCALENDAR
VERSION:2.0
PRODID:-//Welcome to Beckenham Photographic Society - ECPv6.15.15//NONSGML v1.0//EN
CALSCALE:GREGORIAN
METHOD:PUBLISH
X-WR-CALNAME:Welcome to Beckenham Photographic Society
X-ORIGINAL-URL:https://bps9.beckenhamphotosoc.org.uk
X-WR-CALDESC:Events for Welcome to Beckenham Photographic Society
REFRESH-INTERVAL;VALUE=DURATION:PT1H
X-Robots-Tag:noindex
X-PUBLISHED-TTL:PT1H
BEGIN:VTIMEZONE
TZID:UTC
BEGIN:STANDARD
TZOFFSETFROM:+0000
TZOFFSETTO:+0000
TZNAME:UTC
DTSTART:20200101T000000
END:STANDARD
END:VTIMEZONE
BEGIN:VEVENT
DTSTART;TZID=UTC:20211013T200000
DTEND;TZID=UTC:20211013T220000
DTSTAMP:20260421T002602
CREATED:20210726T212908Z
LAST-MODIFIED:20210726T212908Z
UID:3423-1634155200-1634162400@bps9.beckenhamphotosoc.org.uk
SUMMARY:Photography and Jet Black Squares with Jeanette Lendon
DESCRIPTION:
URL:https://bps9.beckenhamphotosoc.org.uk/event/photography-and-jet-black-squares-with-jeanette-lendon/
END:VEVENT
BEGIN:VEVENT
DTSTART;TZID=UTC:20211006T200000
DTEND;TZID=UTC:20211006T220000
DTSTAMP:20260421T002602
CREATED:20210726T212905Z
LAST-MODIFIED:20210928T160606Z
UID:3422-1633550400-1633557600@bps9.beckenhamphotosoc.org.uk
SUMMARY:R1 PDI Competition with Rojer Weightman
DESCRIPTION:
URL:https://bps9.beckenhamphotosoc.org.uk/event/r1-pdi-competition-with-marie-ange-bouchard-arps-cpagb/
END:VEVENT
BEGIN:VEVENT
DTSTART;TZID=UTC:20210929T200000
DTEND;TZID=UTC:20210929T220000
DTSTAMP:20260421T002602
CREATED:20210726T212905Z
LAST-MODIFIED:20210822T194247Z
UID:3421-1632945600-1632952800@bps9.beckenhamphotosoc.org.uk
SUMMARY:Calendar/Centenary update with Members
DESCRIPTION:
URL:https://bps9.beckenhamphotosoc.org.uk/event/calendar-centenary-update-with/
END:VEVENT
BEGIN:VEVENT
DTSTART;TZID=UTC:20210922T200000
DTEND;TZID=UTC:20210922T220000
DTSTAMP:20260421T002602
CREATED:20210726T212905Z
LAST-MODIFIED:20210726T212905Z
UID:3420-1632340800-1632348000@bps9.beckenhamphotosoc.org.uk
SUMMARY:Capturing Time' with John Miskelly  FRPS FIPF FBIPP
DESCRIPTION:
URL:https://bps9.beckenhamphotosoc.org.uk/event/capturing-time-with-john-miskelly-frps-fipf-fbipp/
END:VEVENT
BEGIN:VEVENT
DTSTART;TZID=UTC:20210915T200000
DTEND;TZID=UTC:20210915T220000
DTSTAMP:20260421T002602
CREATED:20210726T212905Z
LAST-MODIFIED:20210726T212905Z
UID:3419-1631736000-1631743200@bps9.beckenhamphotosoc.org.uk
SUMMARY:"All that can be" with John Bermingham   AIPF
DESCRIPTION:
URL:https://bps9.beckenhamphotosoc.org.uk/event/all-that-can-be-with-john-bermingham-aipf/
END:VEVENT
BEGIN:VEVENT
DTSTART;TZID=UTC:20210908T200000
DTEND;TZID=UTC:20210908T220000
DTSTAMP:20260421T002602
CREATED:20210530T225229Z
LAST-MODIFIED:20210530T225229Z
UID:3379-1631131200-1631138400@bps9.beckenhamphotosoc.org.uk
SUMMARY:'An Opportunistic Snapper in the UK' with Fred Barrington ARPS\, AFIAP
DESCRIPTION:Fred will show many aspects of his photography taken in the UK.
URL:https://bps9.beckenhamphotosoc.org.uk/event/an-opportunistic-snapper-in-the-uk-with-fred-barrington-arps-afiap/
LOCATION:St Johns Church Hall\, Eden Park Road\, Beckenham BR3 3JN\, St Johns Church Hall\, Beckenham\, Kent\, BR3 3JN\, United Kingdom
END:VEVENT
BEGIN:VEVENT
DTSTART;TZID=UTC:20210901T200000
DTEND;TZID=UTC:20210901T220000
DTSTAMP:20260421T002602
CREATED:20210811T192323Z
LAST-MODIFIED:20210811T192323Z
UID:3456-1630526400-1630533600@bps9.beckenhamphotosoc.org.uk
SUMMARY:Photo Clinic (with info for new members)
DESCRIPTION:An informal chance to view and comment on each other’s images\, with a view to helping people improve their photography. \nThis will also be aimed at our newer members\, to allow an interactive Q&A session. \nRegister with Fred by 28th August \nHosted by Fred Barrington
URL:https://bps9.beckenhamphotosoc.org.uk/event/photo-clinic-with-info-for-new-members/
LOCATION:Zoom at Home
END:VEVENT
BEGIN:VEVENT
DTSTART;TZID=UTC:20210714T200000
DTEND;TZID=UTC:20210714T220000
DTSTAMP:20260421T002602
CREATED:20210630T182025Z
LAST-MODIFIED:20210630T182025Z
UID:3404-1626292800-1626300000@bps9.beckenhamphotosoc.org.uk
SUMMARY:Photo Clinic
DESCRIPTION:An informal chance to view and comment on each other’s images\, with a view to helping people improve their photography. \nRegister with Fred by 7th July \nHosted by Fred Barrington
URL:https://bps9.beckenhamphotosoc.org.uk/event/photo-clinic-3/
LOCATION:Zoom at Home
END:VEVENT
BEGIN:VEVENT
DTSTART;TZID=UTC:20210630T200000
DTEND;TZID=UTC:20210630T220000
DTSTAMP:20260421T002602
CREATED:20210530T224126Z
LAST-MODIFIED:20210530T224319Z
UID:3373-1625083200-1625090400@bps9.beckenhamphotosoc.org.uk
SUMMARY:Monthly Get Together
DESCRIPTION:An informal chance to get together via Zoom. This time we have decided to each send Lesley One image taken since the previous meeting \nHosted by Lesley Rees
URL:https://bps9.beckenhamphotosoc.org.uk/event/photo-clinic/
LOCATION:Zoom at Home
END:VEVENT
BEGIN:VEVENT
DTSTART;TZID=UTC:20210628T133000
DTEND;TZID=UTC:20210628T170000
DTSTAMP:20260421T002602
CREATED:20210604T160852Z
LAST-MODIFIED:20210604T160852Z
UID:3401-1624887000-1624899600@bps9.beckenhamphotosoc.org.uk
SUMMARY:Photo Walk around the City
DESCRIPTION:Organised by Fred Barrington. \nWe will meet at London Bridge around 1:30pm on Monday 28th June\, and walk around the City from there. \nEmail me for more details and to ‘sign on’.
URL:https://bps9.beckenhamphotosoc.org.uk/event/photo-walk-around-the-city/
END:VEVENT
BEGIN:VEVENT
DTSTART;TZID=UTC:20210609T200000
DTEND;TZID=UTC:20210609T220000
DTSTAMP:20260421T002602
CREATED:20210530T224600Z
LAST-MODIFIED:20210530T225350Z
UID:3377-1623268800-1623276000@bps9.beckenhamphotosoc.org.uk
SUMMARY:Photo Clinic
DESCRIPTION:An informal chance to view and comment on each other’s images\, with a view to helping people improve their photography. \nRegister with Fred by 2nd June \nHosted by Fred Barringotn
URL:https://bps9.beckenhamphotosoc.org.uk/event/photo-clinic-2/
LOCATION:Zoom at Home
END:VEVENT
BEGIN:VEVENT
DTSTART;TZID=UTC:20210512T200000
DTEND;TZID=UTC:20210512T220000
DTSTAMP:20260421T002602
CREATED:20201113T201741Z
LAST-MODIFIED:20210111T175525Z
UID:2694-1620849600-1620856800@bps9.beckenhamphotosoc.org.uk
SUMMARY:End of season Social Event
DESCRIPTION:
URL:https://bps9.beckenhamphotosoc.org.uk/event/annual-social-event/
END:VEVENT
BEGIN:VEVENT
DTSTART;TZID=UTC:20210505T200000
DTEND;TZID=UTC:20210505T220000
DTSTAMP:20260421T002602
CREATED:20201113T184124Z
LAST-MODIFIED:20201113T184124Z
UID:2673-1620244800-1620252000@bps9.beckenhamphotosoc.org.uk
SUMMARY:Annual General Meeting
DESCRIPTION:Come and help decide the club’s future.
URL:https://bps9.beckenhamphotosoc.org.uk/event/annual-general-meeting/
END:VEVENT
BEGIN:VEVENT
DTSTART;TZID=UTC:20210428T200000
DTEND;TZID=UTC:20210428T220000
DTSTAMP:20260421T002602
CREATED:20201113T184005Z
LAST-MODIFIED:20210312T202515Z
UID:2671-1619640000-1619647200@bps9.beckenhamphotosoc.org.uk
SUMMARY:'Lake District Moods' with Carmen Norman ARPS CPAGB BPE1
DESCRIPTION:Lake District Moods – A talk showing an inspiring collection of photographs\, evoking both stillness and movement\, intimately capturing the varied and dramatic beauty of the stunning Lake District. This talk is broken down into key moods where Carmen explains how each picture triggered an emotion\, she will talk about why she created the photograph. Not only will she show you the images taken in the Lake District but also the techniques used to capture and process the photograph. \n From looking at her website I think we are in for an evening of stunning imagery: www.carmennorman.co.uk. \n One not to be missed I think! \n\nChosen by our esteemed President.
URL:https://bps9.beckenhamphotosoc.org.uk/event/presidents-evening-2/
END:VEVENT
BEGIN:VEVENT
DTSTART;TZID=UTC:20210421T200000
DTEND;TZID=UTC:20210421T220000
DTSTAMP:20260421T002602
CREATED:20201113T183858Z
LAST-MODIFIED:20210413T200530Z
UID:2669-1619035200-1619042400@bps9.beckenhamphotosoc.org.uk
SUMMARY:Set Subject 'Staying Local'\, commented upon by Sarah Kelman ARPS APAGB
DESCRIPTION:Commented upon by Sarah Kelman ARPS APAGB
URL:https://bps9.beckenhamphotosoc.org.uk/event/round-4-print-competition/
END:VEVENT
BEGIN:VEVENT
DTSTART;TZID=UTC:20210414T200000
DTEND;TZID=UTC:20210414T220000
DTSTAMP:20260421T002602
CREATED:20201113T183724Z
LAST-MODIFIED:20201113T183724Z
UID:2667-1618430400-1618437600@bps9.beckenhamphotosoc.org.uk
SUMMARY:Perigny Image Exchange Evening
DESCRIPTION:A chance to see both Beckenham’s images on the theme\, and those from our French Twin vlub Perigny
URL:https://bps9.beckenhamphotosoc.org.uk/event/perigny-image-exchange-evening/
END:VEVENT
BEGIN:VEVENT
DTSTART;TZID=UTC:20210407T200000
DTEND;TZID=UTC:20210407T220000
DTSTAMP:20260421T002602
CREATED:20201113T183534Z
LAST-MODIFIED:20210309T214210Z
UID:2665-1617825600-1617832800@bps9.beckenhamphotosoc.org.uk
SUMMARY:Set Subject 'Natural or Man-Made'\, Commented upon by David Smith LRPS
DESCRIPTION:Commented upon by David Smith LRPS
URL:https://bps9.beckenhamphotosoc.org.uk/event/round-3-print-competition-2/
END:VEVENT
BEGIN:VEVENT
DTSTART;TZID=UTC:20210331T200000
DTEND;TZID=UTC:20210331T220000
DTSTAMP:20260421T002602
CREATED:20201113T183238Z
LAST-MODIFIED:20201113T183404Z
UID:2661-1617220800-1617228000@bps9.beckenhamphotosoc.org.uk
SUMMARY:Larter Cup Competition
DESCRIPTION:3 way competition between Beckenham\, West Wickham and Bromley
URL:https://bps9.beckenhamphotosoc.org.uk/event/larter-comp-competition/
END:VEVENT
BEGIN:VEVENT
DTSTART;TZID=UTC:20210324T200000
DTEND;TZID=UTC:20210324T220000
DTSTAMP:20260421T002602
CREATED:20201113T201440Z
LAST-MODIFIED:20210320T230824Z
UID:2692-1616616000-1616623200@bps9.beckenhamphotosoc.org.uk
SUMMARY:"Motorhome Wanderings Around Europe" with Andrew Moss
DESCRIPTION:Our very own action photographer!
URL:https://bps9.beckenhamphotosoc.org.uk/event/capturing-time-with-john-miskelly/
END:VEVENT
BEGIN:VEVENT
DTSTART;TZID=UTC:20210317T200000
DTEND;TZID=UTC:20210317T220000
DTSTAMP:20260421T002602
CREATED:20201113T201329Z
LAST-MODIFIED:20201124T210748Z
UID:2690-1616011200-1616018400@bps9.beckenhamphotosoc.org.uk
SUMMARY:"Art and Photography" with Andrew Mills
DESCRIPTION:An evening held in conjunction with Croydon CC. \nAndrew’s description of the talk is : \n \nI don’t have to like it?  (Or; “My chimpanzee* could have done that! \nNo one says you have to like it. \nIn fact if you like it you may not be getting the whole picture. \nExperiencing art and taking a broader view of all the genres of \nart and photography can stimulate our own ideas and feelings\, \nallowing the development of heightened observation and an empathy \nwith art and expression. \nThis shouldn’t be confused with “liking it”. \nThe aim of the “Art and Photography” talk is to introduce some new ideas \nand to stimulate old ones\, hopefully broadening our thinking of how \nwe view art and art in photography and the possibilities for our own images. \n______________________________________________________________________ \n* Substitute dog\, child\, husband as appropriate…
URL:https://bps9.beckenhamphotosoc.org.uk/event/an-evening-with-with-andrew-mills/
END:VEVENT
BEGIN:VEVENT
DTSTART;TZID=UTC:20210310T200000
DTEND;TZID=UTC:20210310T220000
DTSTAMP:20260421T002602
CREATED:20201113T201145Z
LAST-MODIFIED:20201113T201145Z
UID:2688-1615406400-1615413600@bps9.beckenhamphotosoc.org.uk
SUMMARY:"The Power of Sport" with Peter Milsom
DESCRIPTION:
URL:https://bps9.beckenhamphotosoc.org.uk/event/the-power-of-sport-with-peter-milsom/
END:VEVENT
BEGIN:VEVENT
DTSTART;TZID=UTC:20210303T080000
DTEND;TZID=UTC:20210303T170000
DTSTAMP:20260421T002602
CREATED:20201113T201041Z
LAST-MODIFIED:20210111T173223Z
UID:2686-1614758400-1614790800@bps9.beckenhamphotosoc.org.uk
SUMMARY:Members Evening
DESCRIPTION:
URL:https://bps9.beckenhamphotosoc.org.uk/event/mono-print-competition-may-be-replaced-due-to-covid/
END:VEVENT
BEGIN:VEVENT
DTSTART;TZID=UTC:20210224T200000
DTEND;TZID=UTC:20210224T220000
DTSTAMP:20260421T002602
CREATED:20201113T183041Z
LAST-MODIFIED:20210105T182516Z
UID:2659-1614196800-1614204000@bps9.beckenhamphotosoc.org.uk
SUMMARY:Set Subject 'Together'\, critiqued by Tim Morland ARPS
DESCRIPTION:This replaces the print competition due to Covid restrictions. \n‘Together’ is the subject for the exchange with Perigny evening. \nThe images will be submitted as normal and critiqued by Tim Morland.
URL:https://bps9.beckenhamphotosoc.org.uk/event/round-2-print-competition/
END:VEVENT
BEGIN:VEVENT
DTSTART;TZID=UTC:20210217T200000
DTEND;TZID=UTC:20210217T220000
DTSTAMP:20260421T002602
CREATED:20201113T200747Z
LAST-MODIFIED:20210111T174409Z
UID:2683-1613592000-1613599200@bps9.beckenhamphotosoc.org.uk
SUMMARY:Annual Exhibition
DESCRIPTION:Judged by Dave Mason.
URL:https://bps9.beckenhamphotosoc.org.uk/event/annual-exhibition-2/
END:VEVENT
BEGIN:VEVENT
DTSTART;TZID=UTC:20210210T200000
DTEND;TZID=UTC:20210210T220000
DTSTAMP:20260421T002602
CREATED:20201113T200435Z
LAST-MODIFIED:20210111T173040Z
UID:2681-1612987200-1612994400@bps9.beckenhamphotosoc.org.uk
SUMMARY:"100 Strangers" with Steve Myall
DESCRIPTION:Steve will be talking about a project to take portraits of 100 people who are strangers to me at the time I meet them.  Street photography with permission. \nThis will include lots of tips on how to approach people and camera technique
URL:https://bps9.beckenhamphotosoc.org.uk/event/100-strangers-with-steve-myall/
END:VEVENT
BEGIN:VEVENT
DTSTART;TZID=UTC:20210203T200000
DTEND;TZID=UTC:20210203T220000
DTSTAMP:20260421T002602
CREATED:20201113T200330Z
LAST-MODIFIED:20201113T200330Z
UID:2679-1612382400-1612389600@bps9.beckenhamphotosoc.org.uk
SUMMARY:Members Evening
DESCRIPTION:tba
URL:https://bps9.beckenhamphotosoc.org.uk/event/members-evening-2/
END:VEVENT
BEGIN:VEVENT
DTSTART;TZID=UTC:20210127T200000
DTEND;TZID=UTC:20210127T220000
DTSTAMP:20260421T002602
CREATED:20201113T182732Z
LAST-MODIFIED:20210105T182725Z
UID:2655-1611777600-1611784800@bps9.beckenhamphotosoc.org.uk
SUMMARY:Monochrome PDI Competition\, Judged by Chris Palmer FRPS\, EFIAP\, DPAGB\, APAGB
DESCRIPTION:This replaces the original print competition due to Covid restrictions.
URL:https://bps9.beckenhamphotosoc.org.uk/event/round-1-prints-competition/
END:VEVENT
BEGIN:VEVENT
DTSTART;TZID=UTC:20210124T234500
DTEND;TZID=UTC:20210124T234500
DTSTAMP:20260421T002602
CREATED:20210111T174252Z
LAST-MODIFIED:20210111T174252Z
UID:2889-1611531900-1611531900@bps9.beckenhamphotosoc.org.uk
SUMMARY:Deadline for entries for Annual Exhibition
DESCRIPTION:
URL:https://bps9.beckenhamphotosoc.org.uk/event/deadline-for-entries-for-annual-exhibition/
END:VEVENT
BEGIN:VEVENT
DTSTART;TZID=UTC:20210120T234500
DTEND;TZID=UTC:20210120T234500
DTSTAMP:20260421T002602
CREATED:20210105T183121Z
LAST-MODIFIED:20210105T183121Z
UID:2867-1611186300-1611186300@bps9.beckenhamphotosoc.org.uk
SUMMARY:Deadline for Monochrome PDI entries
DESCRIPTION:by 23:45 please
URL:https://bps9.beckenhamphotosoc.org.uk/event/deadline-for-monochrome-pdi-entries/
END:VEVENT
BEGIN:VEVENT
DTSTART;TZID=UTC:20210120T200000
DTEND;TZID=UTC:20210120T220000
DTSTAMP:20260421T002602
CREATED:20201113T200206Z
LAST-MODIFIED:20210109T231444Z
UID:2677-1611172800-1611180000@bps9.beckenhamphotosoc.org.uk
SUMMARY:"Why do we still shoot Monochrome?" with Paul Graber LRPS
DESCRIPTION:Paul will present his ideas\, and then go through some of our previously submitted images.
URL:https://bps9.beckenhamphotosoc.org.uk/event/an-evening-of-mono-with-paul-graber-lrps/
END:VEVENT
END:VCALENDAR