BEGIN:VCALENDAR
VERSION:2.0
PRODID:-//Welcome to Beckenham Photographic Society - ECPv6.15.15//NONSGML v1.0//EN
CALSCALE:GREGORIAN
METHOD:PUBLISH
X-ORIGINAL-URL:https://bps9.beckenhamphotosoc.org.uk
X-WR-CALDESC:Events for Welcome to Beckenham Photographic Society
REFRESH-INTERVAL;VALUE=DURATION:PT1H
X-Robots-Tag:noindex
X-PUBLISHED-TTL:PT1H
BEGIN:VTIMEZONE
TZID:UTC
BEGIN:STANDARD
TZOFFSETFROM:+0000
TZOFFSETTO:+0000
TZNAME:UTC
DTSTART:20190101T000000
END:STANDARD
END:VTIMEZONE
BEGIN:VEVENT
DTSTART;TZID=UTC:20200708T194500
DTEND;TZID=UTC:20200708T220000
DTSTAMP:20260423T145144
CREATED:20200526T210824Z
LAST-MODIFIED:20200526T211013Z
UID:2218-1594237500-1594245600@bps9.beckenhamphotosoc.org.uk
SUMMARY:Wildlife in Cold Places with Peter Jones ARPS\, DPAGB and Sue Wilson DPAGB
DESCRIPTION:Peter Jones ARPS\, DPAGB and Sue Wilson DPAGB from Newark.  Peter and Sue will be presenting their most popular talk: “Wildlife in Cold Places”.  We are very lucky that they have agreed to do this for us on Zoom and\, as that say\, it involves lots of animals and lots of snow.
URL:https://bps9.beckenhamphotosoc.org.uk/event/wildlife-in-cold-places-with-peter-jones-arps-dpagb-and-sue-wilson-dpagb-2/
END:VEVENT
BEGIN:VEVENT
DTSTART;TZID=UTC:20200701T194500
DTEND;TZID=UTC:20200701T220000
DTSTAMP:20260423T145144
CREATED:20200526T210322Z
LAST-MODIFIED:20200526T210322Z
UID:2212-1593632700-1593640800@bps9.beckenhamphotosoc.org.uk
SUMMARY:A Photographic Quiz hosted by Keith Surey.
DESCRIPTION:As we are using Zoom\, you can cheat if you want to\, but then you will feel guilty for months afterwards!
URL:https://bps9.beckenhamphotosoc.org.uk/event/a-photographic-quiz-hosted-by-keith-surey/
END:VEVENT
BEGIN:VEVENT
DTSTART;TZID=UTC:20200624T194500
DTEND;TZID=UTC:20200624T220000
DTSTAMP:20260423T145144
CREATED:20200526T210155Z
LAST-MODIFIED:20200526T210155Z
UID:2210-1593027900-1593036000@bps9.beckenhamphotosoc.org.uk
SUMMARY:Getting the Best Photographically from your Travels with Alan Walker\, ARPS\, MPAGB\, EFIAP\, MPSA
DESCRIPTION:Alan Walker\, ARPS\, MPAGB\, EFIAP\, MPSA from Cumbria will be giving his presentation on “Getting the Best Photographically from your Travels”.  Although we are not going far from home at the moment\, Alan will share with us the way he approaches the planning and execution of successful photographic trips and how to come back with competition images rather than holiday snaps!  The great thing is that this can be applied to a quick nip into London as well as the trip of a lifetime to Antarctica.  Alan’s website is here: https://www.awalkerphotography.co.uk/
URL:https://bps9.beckenhamphotosoc.org.uk/event/getting-the-best-photographically-from-your-travels-with-alan-walker-arps-mpagb-efiap-mpsa/
END:VEVENT
BEGIN:VEVENT
DTSTART;TZID=UTC:20200617T194500
DTEND;TZID=UTC:20200617T220000
DTSTAMP:20260423T145144
CREATED:20200514T185512Z
LAST-MODIFIED:20200608T154330Z
UID:2191-1592423100-1592431200@bps9.beckenhamphotosoc.org.uk
SUMMARY:Flower Portraits and Still Life with Polina Plotnikova FRPS EFIAP
DESCRIPTION:We are very lucky that Polina has agreed to give us this talk which she has presented to many camera clubs around the country. \nPolina reveals many secrets behind the creation of her work such as tips for sourcing props and how to get her flowers\, living or dead\, to pose in the\ngraceful shapes that are one of the strengths of her photography. \nShe discusses techniques that cover in-camera double-exposures and the use of Lensbaby lenses. \nPolina also includes images that show how she sets up her lighting both using studio flash or available light.
URL:https://bps9.beckenhamphotosoc.org.uk/event/flower-portraits-and-still-life-with-polina-plotnikova-frps-efiap/
END:VEVENT
BEGIN:VEVENT
DTSTART;TZID=UTC:20200610T194500
DTEND;TZID=UTC:20200610T220000
DTSTAMP:20260423T145144
CREATED:20200514T181657Z
LAST-MODIFIED:20200516T205349Z
UID:2189-1591818300-1591826400@bps9.beckenhamphotosoc.org.uk
SUMMARY:The Wildlife and Landscapes of East Anglia with Steve Hedges
DESCRIPTION:Steve Hedges is presenting his new talk: The Wildlife and Landscapes of East Anglia. Steve is a\nprofessional photographer who runs courses ranging from Foxes in Essex to the Austrian Alps and Venice. A\nnumber of club members have attended and he comes highly recommended.
URL:https://bps9.beckenhamphotosoc.org.uk/event/the-wildlife-and-landscapes-of-east-anglia/
END:VEVENT
BEGIN:VEVENT
DTSTART;TZID=UTC:20200603T194500
DTEND;TZID=UTC:20200603T220000
DTSTAMP:20260423T145144
CREATED:20200514T181455Z
LAST-MODIFIED:20200514T185638Z
UID:2186-1591213500-1591221600@bps9.beckenhamphotosoc.org.uk
SUMMARY:Photographic Improvement Evening hosted by Keith Surey
DESCRIPTION:Another chance to improve your photography in an informal meeting of minds. Hosted by Keith Surey
URL:https://bps9.beckenhamphotosoc.org.uk/event/pie/
END:VEVENT
BEGIN:VEVENT
DTSTART;TZID=UTC:20200527T194500
DTEND;TZID=UTC:20200527T220000
DTSTAMP:20260423T145144
CREATED:20200429T210006Z
LAST-MODIFIED:20200429T210231Z
UID:2147-1590608700-1590616800@bps9.beckenhamphotosoc.org.uk
SUMMARY:“He Shoots\, He Scores” hosted by Andrew Moss
DESCRIPTION:Or How I shoot pictures that sometimes do well in Club Competitions\, hosted by Andrew Moss
URL:https://bps9.beckenhamphotosoc.org.uk/event/he-shoots-he-scores/
END:VEVENT
BEGIN:VEVENT
DTSTART;TZID=UTC:20200520T194500
DTEND;TZID=UTC:20200520T220000
DTSTAMP:20260423T145144
CREATED:20200429T205352Z
LAST-MODIFIED:20200504T200254Z
UID:2145-1590003900-1590012000@bps9.beckenhamphotosoc.org.uk
SUMMARY:The Power of Personal Projects by Glyn Dewis
DESCRIPTION:Not to be missed. \nGlyn Dewis is a very well known and renowned Photoshop expert. \nThe Power of Personal Projects\nIn this presentation UK Photographer Glyn Dewis will talk about the importance of personal projects and how they are the key to developing as a Photographer. Glyn will also go through his current 39-45 Portraits Project where he (until lockdown) was touring the UK photographing surviving World War 2 Veterans; an entirely self-funded project that has gained National News Coverage but with the sole intention of providing Veterans and their families with classic\, timeless portraits. Glyn will also go through some Veterans stories and also the photography and lighting he uses to take these Veteran Portraits on location and will finish the presentation with some examples of retouching techniques he regularly turns to. You can check out Glyn’s main website at https://www.glyndewis.com and also the 39-45 Portraits Project website at https://www.3945portraits.com\n\nGlyn has declined payment for the presentation but asks that the club make a donation to his current fund raising campaign in aid of helping veterans young and old https://www.virginmoneygiving.com/help-veterans
URL:https://bps9.beckenhamphotosoc.org.uk/event/presentation-by-glyn-dewis/
END:VEVENT
BEGIN:VEVENT
DTSTART;TZID=UTC:20200513T194500
DTEND;TZID=UTC:20200513T220000
DTSTAMP:20260423T145144
CREATED:20200429T204616Z
LAST-MODIFIED:20200429T210425Z
UID:2143-1589399100-1589407200@bps9.beckenhamphotosoc.org.uk
SUMMARY:Panels used in inter-club and South London Federation competitions hosted by Barrie Brown LRPS
DESCRIPTION:A review of images used by BPS in inter-club and South London Federation competitions hosted by Barrie Brown LRPS
URL:https://bps9.beckenhamphotosoc.org.uk/event/fslps-panels/
END:VEVENT
BEGIN:VEVENT
DTSTART;TZID=UTC:20200506T200000
DTEND;TZID=UTC:20200506T220000
DTSTAMP:20260423T145144
CREATED:20190825T165629Z
LAST-MODIFIED:20190825T165629Z
UID:1518-1588795200-1588802400@bps9.beckenhamphotosoc.org.uk
SUMMARY:AGM
DESCRIPTION:Members Only
URL:https://bps9.beckenhamphotosoc.org.uk/event/agm/
END:VEVENT
BEGIN:VEVENT
DTSTART;TZID=UTC:20200429T200000
DTEND;TZID=UTC:20200429T220000
DTSTAMP:20260423T145144
CREATED:20190825T165535Z
LAST-MODIFIED:20200415T221052Z
UID:1516-1588190400-1588197600@bps9.beckenhamphotosoc.org.uk
SUMMARY:PIE evening - hosted by Fred Barrington
DESCRIPTION:An opportunity to take part in a friendly and constructive review of each others images. \nWill be held via ZOOM. and limited to a maximum of 10 people
URL:https://bps9.beckenhamphotosoc.org.uk/event/presidents-evening/
END:VEVENT
BEGIN:VEVENT
DTSTART;TZID=UTC:20200422T200000
DTEND;TZID=UTC:20200422T220000
DTSTAMP:20260423T145144
CREATED:20190825T164920Z
LAST-MODIFIED:20200415T221225Z
UID:1507-1587585600-1587592800@bps9.beckenhamphotosoc.org.uk
SUMMARY:R4 PDI Competition
DESCRIPTION:judged by David Eastley LRPS \nWill be run via ZOOM.
URL:https://bps9.beckenhamphotosoc.org.uk/event/r4-pdi-competition/
END:VEVENT
BEGIN:VEVENT
DTSTART;TZID=UTC:20200415T193000
DTEND;TZID=UTC:20200415T220000
DTSTAMP:20260423T145144
CREATED:20200410T200552Z
LAST-MODIFIED:20200413T111120Z
UID:2066-1586979000-1586988000@bps9.beckenhamphotosoc.org.uk
SUMMARY:Monochrome Competition
DESCRIPTION:This competition is now a PDI competition\, judged by David Smith via Zoom.
URL:https://bps9.beckenhamphotosoc.org.uk/event/monochrome-competition/
END:VEVENT
BEGIN:VEVENT
DTSTART;TZID=UTC:20200401T200000
DTEND;TZID=UTC:20200401T220000
DTSTAMP:20260423T145144
CREATED:20190825T170758Z
LAST-MODIFIED:20190825T170758Z
UID:1536-1585771200-1585778400@bps9.beckenhamphotosoc.org.uk
SUMMARY:Closing Date R4 PDI
DESCRIPTION:
URL:https://bps9.beckenhamphotosoc.org.uk/event/closing-date-r4-pdi/
END:VEVENT
BEGIN:VEVENT
DTSTART;TZID=UTC:20200401T200000
DTEND;TZID=UTC:20200401T220000
DTSTAMP:20260423T145144
CREATED:20190825T164824Z
LAST-MODIFIED:20190825T164824Z
UID:1505-1585771200-1585778400@bps9.beckenhamphotosoc.org.uk
SUMMARY:Chislehurst Cup v Greenwood CC
DESCRIPTION:Mick White LRPS CPAGB
URL:https://bps9.beckenhamphotosoc.org.uk/event/chislehurst-cup-v-greenwood-cc/
END:VEVENT
BEGIN:VEVENT
DTSTART;TZID=UTC:20200318T200000
DTEND;TZID=UTC:20200318T220000
DTSTAMP:20260423T145144
CREATED:20190825T164553Z
LAST-MODIFIED:20190825T164553Z
UID:1501-1584561600-1584568800@bps9.beckenhamphotosoc.org.uk
SUMMARY:‘Before and After’ with audience participation
DESCRIPTION:Sue Chapman ARPS CPAGB
URL:https://bps9.beckenhamphotosoc.org.uk/event/before-and-after-with-audience-participation/
END:VEVENT
BEGIN:VEVENT
DTSTART;TZID=UTC:20200311T200000
DTEND;TZID=UTC:20200311T220000
DTSTAMP:20260423T145144
CREATED:20190825T164252Z
LAST-MODIFIED:20190825T164446Z
UID:1499-1583956800-1583964000@bps9.beckenhamphotosoc.org.uk
SUMMARY:Caithness Bowl and Blackbourn Trophy : 5-9 prints on a theme
DESCRIPTION:Clive Tanner FRPS MPAGB
URL:https://bps9.beckenhamphotosoc.org.uk/event/caithness-bowl-and-blackbourn-trophy-5-9-prints-on-a-theme/
END:VEVENT
BEGIN:VEVENT
DTSTART;TZID=UTC:20200304T200000
DTEND;TZID=UTC:20200304T220000
DTSTAMP:20260423T145144
CREATED:20190825T164142Z
LAST-MODIFIED:20190825T164142Z
UID:1497-1583352000-1583359200@bps9.beckenhamphotosoc.org.uk
SUMMARY:Travelling with Photographic Purpose
DESCRIPTION:Polina Plotnikova ARPS EFIAP
URL:https://bps9.beckenhamphotosoc.org.uk/event/travelling-with-photographic-purpose/
END:VEVENT
BEGIN:VEVENT
DTSTART;TZID=UTC:20200304T200000
DTEND;TZID=UTC:20200304T220000
DTSTAMP:20260423T145144
CREATED:20190810T211245Z
LAST-MODIFIED:20190810T211339Z
UID:809-1583352000-1583359200@bps9.beckenhamphotosoc.org.uk
SUMMARY:Members Workshop
DESCRIPTION:
URL:https://bps9.beckenhamphotosoc.org.uk/event/members-workshop-2/
END:VEVENT
BEGIN:VEVENT
DTSTART;TZID=UTC:20200226T200000
DTEND;TZID=UTC:20200226T220000
DTSTAMP:20260423T145144
CREATED:20190825T163949Z
LAST-MODIFIED:20190825T164032Z
UID:1495-1582747200-1582754400@bps9.beckenhamphotosoc.org.uk
SUMMARY:Sparkes-Adventures in Street Photography
DESCRIPTION:Stephen Leslie
URL:https://bps9.beckenhamphotosoc.org.uk/event/sparkes-adventures-in-street-photography/
END:VEVENT
BEGIN:VEVENT
DTSTART;TZID=UTC:20200219T200000
DTEND;TZID=UTC:20200219T220000
DTSTAMP:20260423T145144
CREATED:20190825T163833Z
LAST-MODIFIED:20190825T163833Z
UID:1493-1582142400-1582149600@bps9.beckenhamphotosoc.org.uk
SUMMARY:Annual Exhibition
DESCRIPTION:Jay Charnock  FRPS \nThis meeting is at St Johns and not Beckenham Public Hall
URL:https://bps9.beckenhamphotosoc.org.uk/event/annual-exhibition/
END:VEVENT
BEGIN:VEVENT
DTSTART;TZID=UTC:20200212T200000
DTEND;TZID=UTC:20200212T220000
DTSTAMP:20260423T145144
CREATED:20190825T163617Z
LAST-MODIFIED:20190825T163617Z
UID:1491-1581537600-1581544800@bps9.beckenhamphotosoc.org.uk
SUMMARY:FSLPS  Inter Club Competition Semi Final A
DESCRIPTION:David Eastley LRPS
URL:https://bps9.beckenhamphotosoc.org.uk/event/fslps-inter-club-competition-semi-final-a/
END:VEVENT
BEGIN:VEVENT
DTSTART;TZID=UTC:20200205T200000
DTEND;TZID=UTC:20200205T220000
DTSTAMP:20260423T145144
CREATED:20190825T163345Z
LAST-MODIFIED:20190825T163504Z
UID:1489-1580932800-1580940000@bps9.beckenhamphotosoc.org.uk
SUMMARY:An Evening with Michael Cockerham
DESCRIPTION:Michael Cockerham
URL:https://bps9.beckenhamphotosoc.org.uk/event/an-evening-with-michael-cockerham/
END:VEVENT
BEGIN:VEVENT
DTSTART;TZID=UTC:20200129T200000
DTEND;TZID=UTC:20200129T220000
DTSTAMP:20260423T145144
CREATED:20190825T163135Z
LAST-MODIFIED:20190825T163258Z
UID:1486-1580328000-1580335200@bps9.beckenhamphotosoc.org.uk
SUMMARY:Round 3 PDI Comp
DESCRIPTION:Darren Pullman AFIAP
URL:https://bps9.beckenhamphotosoc.org.uk/event/round-3-pdi-comp/
END:VEVENT
BEGIN:VEVENT
DTSTART;TZID=UTC:20200122T200000
DTEND;TZID=UTC:20200122T220000
DTSTAMP:20260423T145144
CREATED:20190825T170727Z
LAST-MODIFIED:20190825T170727Z
UID:1534-1579723200-1579730400@bps9.beckenhamphotosoc.org.uk
SUMMARY:Closing Date R3 PDI
DESCRIPTION:
URL:https://bps9.beckenhamphotosoc.org.uk/event/closing-date-r3-pdi/
END:VEVENT
BEGIN:VEVENT
DTSTART;TZID=UTC:20200122T200000
DTEND;TZID=UTC:20200122T220000
DTSTAMP:20260423T145144
CREATED:20190825T163005Z
LAST-MODIFIED:20190825T163045Z
UID:1484-1579723200-1579730400@bps9.beckenhamphotosoc.org.uk
SUMMARY:Inside the Judge’s Mind
DESCRIPTION:Cathy Roberts FRPS EFIAP/s DPAGB and Nenne van Dijk FRPS DPAGB
URL:https://bps9.beckenhamphotosoc.org.uk/event/inside-the-judges-mind/
END:VEVENT
BEGIN:VEVENT
DTSTART;TZID=UTC:20200122T200000
DTEND;TZID=UTC:20200122T220000
DTSTAMP:20260423T145144
CREATED:20190810T211925Z
LAST-MODIFIED:20190810T211925Z
UID:813-1579723200-1579730400@bps9.beckenhamphotosoc.org.uk
SUMMARY:Members Workshop
DESCRIPTION:
URL:https://bps9.beckenhamphotosoc.org.uk/event/members-workshop-3/
END:VEVENT
BEGIN:VEVENT
DTSTART;TZID=UTC:20200115T200000
DTEND;TZID=UTC:20200115T220000
DTSTAMP:20260423T145144
CREATED:20190825T162844Z
LAST-MODIFIED:20190825T162844Z
UID:1482-1579118400-1579125600@bps9.beckenhamphotosoc.org.uk
SUMMARY:Round 3 Print Competition
DESCRIPTION:Rosemary Wilman Hon FRPS AFIAP
URL:https://bps9.beckenhamphotosoc.org.uk/event/round-3-print-competition/
END:VEVENT
BEGIN:VEVENT
DTSTART;TZID=UTC:20200108T200000
DTEND;TZID=UTC:20200108T220000
DTSTAMP:20260423T145144
CREATED:20190825T170527Z
LAST-MODIFIED:20190825T170527Z
UID:1528-1578513600-1578520800@bps9.beckenhamphotosoc.org.uk
SUMMARY:Closing Date R3 Prints
DESCRIPTION:
URL:https://bps9.beckenhamphotosoc.org.uk/event/closing-date-r3-prints/
END:VEVENT
BEGIN:VEVENT
DTSTART;TZID=UTC:20200108T200000
DTEND;TZID=UTC:20200108T220000
DTSTAMP:20260423T145144
CREATED:20190825T162739Z
LAST-MODIFIED:20190825T162739Z
UID:1480-1578513600-1578520800@bps9.beckenhamphotosoc.org.uk
SUMMARY:Landscape Photography: a journey in technique\, composition and lighting’
DESCRIPTION:Alex Hare
URL:https://bps9.beckenhamphotosoc.org.uk/event/landscape-photography-a-journey-in-technique-composition-and-lighting/
END:VEVENT
END:VCALENDAR