BEGIN:VCALENDAR
VERSION:2.0
PRODID:-//Welcome to Beckenham Photographic Society - ECPv6.15.15//NONSGML v1.0//EN
CALSCALE:GREGORIAN
METHOD:PUBLISH
X-ORIGINAL-URL:https://bps9.beckenhamphotosoc.org.uk
X-WR-CALDESC:Events for Welcome to Beckenham Photographic Society
REFRESH-INTERVAL;VALUE=DURATION:PT1H
X-Robots-Tag:noindex
X-PUBLISHED-TTL:PT1H
BEGIN:VTIMEZONE
TZID:UTC
BEGIN:STANDARD
TZOFFSETFROM:+0000
TZOFFSETTO:+0000
TZNAME:UTC
DTSTART:20220101T000000
END:STANDARD
END:VTIMEZONE
BEGIN:VEVENT
DTSTART;TZID=UTC:20231004T194500
DTEND;TZID=UTC:20231004T220000
DTSTAMP:20260425T154251
CREATED:20230713T172706Z
LAST-MODIFIED:20230713T172706Z
UID:5654-1696448700-1696456800@bps9.beckenhamphotosoc.org.uk
SUMMARY:Round 1 PDI Comp\, judged by Marcus Scott-Taggart
DESCRIPTION:
URL:https://bps9.beckenhamphotosoc.org.uk/event/round-1-pdi-comp-judged-by-marcus-scott-taggart/
LOCATION:Beckenham
END:VEVENT
BEGIN:VEVENT
DTSTART;TZID=UTC:20231011T194500
DTEND;TZID=UTC:20231011T220000
DTSTAMP:20260425T154251
CREATED:20230713T172841Z
LAST-MODIFIED:20230713T172841Z
UID:5656-1697053500-1697061600@bps9.beckenhamphotosoc.org.uk
SUMMARY:Feel the Land - Photography and Emotion with Astrid McGeechan
DESCRIPTION:
URL:https://bps9.beckenhamphotosoc.org.uk/event/feel-the-land-photography-and-emotion-with-astrid-mcgeechan/
LOCATION:Beckenham
END:VEVENT
BEGIN:VEVENT
DTSTART;TZID=UTC:20231018T194500
DTEND;TZID=UTC:20231018T220000
DTSTAMP:20260425T154251
CREATED:20230713T173621Z
LAST-MODIFIED:20230713T173621Z
UID:5661-1697658300-1697666400@bps9.beckenhamphotosoc.org.uk
SUMMARY:Round 1 Print Competition\, judged by Pauline Martinedale
DESCRIPTION:
URL:https://bps9.beckenhamphotosoc.org.uk/event/round-1-print-competition-judged-by-pauline-martinedale/
LOCATION:St Johns Church Hall\, Eden Park Road\, Beckenham BR3 3JN\, St Johns Church Hall\, Beckenham\, Kent\, BR3 3JN\, United Kingdom
END:VEVENT
BEGIN:VEVENT
DTSTART;TZID=UTC:20231025T194500
DTEND;TZID=UTC:20231025T220000
DTSTAMP:20260425T154251
CREATED:20230713T173724Z
LAST-MODIFIED:20230713T173724Z
UID:5663-1698263100-1698271200@bps9.beckenhamphotosoc.org.uk
SUMMARY:Astrophotography with Les Brand
DESCRIPTION:
URL:https://bps9.beckenhamphotosoc.org.uk/event/astrophotography-with-les-brand/
LOCATION:Beckenham
END:VEVENT
END:VCALENDAR