BEGIN:VCALENDAR
VERSION:2.0
PRODID:-//Welcome to Beckenham Photographic Society - ECPv6.15.15//NONSGML v1.0//EN
CALSCALE:GREGORIAN
METHOD:PUBLISH
X-WR-CALNAME:Welcome to Beckenham Photographic Society
X-ORIGINAL-URL:https://bps9.beckenhamphotosoc.org.uk
X-WR-CALDESC:Events for Welcome to Beckenham Photographic Society
REFRESH-INTERVAL;VALUE=DURATION:PT1H
X-Robots-Tag:noindex
X-PUBLISHED-TTL:PT1H
BEGIN:VTIMEZONE
TZID:UTC
BEGIN:STANDARD
TZOFFSETFROM:+0000
TZOFFSETTO:+0000
TZNAME:UTC
DTSTART:20220101T000000
END:STANDARD
END:VTIMEZONE
BEGIN:VEVENT
DTSTART;TZID=UTC:20231101T194500
DTEND;TZID=UTC:20231101T220000
DTSTAMP:20260425T165906
CREATED:20230713T173955Z
LAST-MODIFIED:20230713T173955Z
UID:5665-1698867900-1698876000@bps9.beckenhamphotosoc.org.uk
SUMMARY:Beyond the Summit with Chris Palmer FRPS\, EFIAP\, DPAGB
DESCRIPTION:
URL:https://bps9.beckenhamphotosoc.org.uk/event/beyond-the-summit-with-chris-palmer-frps-efiap-dpagb/
LOCATION:Beckenham
END:VEVENT
BEGIN:VEVENT
DTSTART;TZID=UTC:20231108T194500
DTEND;TZID=UTC:20231108T220000
DTSTAMP:20260425T165906
CREATED:20230713T174310Z
LAST-MODIFIED:20230713T174310Z
UID:5669-1699472700-1699480800@bps9.beckenhamphotosoc.org.uk
SUMMARY:Round 2 PDI Competition\, judged by Dr Peter Walmsley
DESCRIPTION:
URL:https://bps9.beckenhamphotosoc.org.uk/event/round-2-pdi-competition-judged-by-dr-peter-walmsley/
LOCATION:Beckenham
END:VEVENT
BEGIN:VEVENT
DTSTART;TZID=UTC:20231115T194500
DTEND;TZID=UTC:20231115T220000
DTSTAMP:20260425T165906
CREATED:20230713T174141Z
LAST-MODIFIED:20231111T204450Z
UID:5667-1700077500-1700085600@bps9.beckenhamphotosoc.org.uk
SUMMARY:Members Evening - Feedback Evening
DESCRIPTION:An informal evening whereby members can show a couple of images and receive feedback from the members.
URL:https://bps9.beckenhamphotosoc.org.uk/event/members-evening-still-life/
LOCATION:St Johns Church Hall\, Eden Park Road\, Beckenham BR3 3JN\, St Johns Church Hall\, Beckenham\, Kent\, BR3 3JN\, United Kingdom
END:VEVENT
BEGIN:VEVENT
DTSTART;TZID=UTC:20231122T194500
DTEND;TZID=UTC:20231122T220000
DTSTAMP:20260425T165906
CREATED:20230713T174417Z
LAST-MODIFIED:20230713T174417Z
UID:5671-1700682300-1700690400@bps9.beckenhamphotosoc.org.uk
SUMMARY:The way I see it with Rosemary Wilman HonFRPS
DESCRIPTION:
URL:https://bps9.beckenhamphotosoc.org.uk/event/the-way-i-see-it-with-rosemary-wilman-honfrps/
LOCATION:Beckenham
END:VEVENT
BEGIN:VEVENT
DTSTART;TZID=UTC:20231129T194500
DTEND;TZID=UTC:20231129T220000
DTSTAMP:20260425T165906
CREATED:20230713T174734Z
LAST-MODIFIED:20230713T174734Z
UID:5673-1701287100-1701295200@bps9.beckenhamphotosoc.org.uk
SUMMARY:Dennis Berry Panel Competition\, commentary by Robin Hudson
DESCRIPTION:This is a competition of panels of 5-9 PDIs on a theme\, with commentary by an outside ‘judge’\, but voted on by the members. \nThey are displayed digitally in sequence\, but can be a panel or a chronological sequence. \n 
URL:https://bps9.beckenhamphotosoc.org.uk/event/dennis-berry-panel-competition-commentary-by-robin-hudson/
LOCATION:Beckenham
END:VEVENT
END:VCALENDAR