BEGIN:VCALENDAR
VERSION:2.0
PRODID:-//Welcome to Beckenham Photographic Society - ECPv6.15.15//NONSGML v1.0//EN
CALSCALE:GREGORIAN
METHOD:PUBLISH
X-ORIGINAL-URL:https://bps9.beckenhamphotosoc.org.uk
X-WR-CALDESC:Events for Welcome to Beckenham Photographic Society
REFRESH-INTERVAL;VALUE=DURATION:PT1H
X-Robots-Tag:noindex
X-PUBLISHED-TTL:PT1H
BEGIN:VTIMEZONE
TZID:UTC
BEGIN:STANDARD
TZOFFSETFROM:+0000
TZOFFSETTO:+0000
TZNAME:UTC
DTSTART:20220101T000000
END:STANDARD
END:VTIMEZONE
BEGIN:VEVENT
DTSTART;TZID=UTC:20231206T194500
DTEND;TZID=UTC:20231206T220000
DTSTAMP:20260425T182633
CREATED:20230713T174853Z
LAST-MODIFIED:20230713T174853Z
UID:5675-1701891900-1701900000@bps9.beckenhamphotosoc.org.uk
SUMMARY:The Silk Road today with David Smith LRPS\, CPAGB
DESCRIPTION:
URL:https://bps9.beckenhamphotosoc.org.uk/event/the-silk-road-today-with-david-smith-lrps-cpagb/
LOCATION:Beckenham
END:VEVENT
BEGIN:VEVENT
DTSTART;TZID=UTC:20231213T194500
DTEND;TZID=UTC:20231213T220000
DTSTAMP:20260425T182633
CREATED:20230713T175011Z
LAST-MODIFIED:20230713T175011Z
UID:5677-1702496700-1702504800@bps9.beckenhamphotosoc.org.uk
SUMMARY:Round 2 Print Competition\, judged by Ann Healey FRPS
DESCRIPTION:
URL:https://bps9.beckenhamphotosoc.org.uk/event/round-2-print-competition-judged-by-ann-healey-frps/
LOCATION:Beckenham
END:VEVENT
BEGIN:VEVENT
DTSTART;TZID=UTC:20231220T194500
DTEND;TZID=UTC:20231220T220000
DTSTAMP:20260425T182633
CREATED:20230713T175122Z
LAST-MODIFIED:20230713T175122Z
UID:5679-1703101500-1703109600@bps9.beckenhamphotosoc.org.uk
SUMMARY:Xmas Social
DESCRIPTION:Including showing Slides from BPS Past
URL:https://bps9.beckenhamphotosoc.org.uk/event/xmas-social/
LOCATION:Beckenham
END:VEVENT
END:VCALENDAR