BEGIN:VCALENDAR
VERSION:2.0
PRODID:-//Welcome to Beckenham Photographic Society - ECPv6.15.15//NONSGML v1.0//EN
CALSCALE:GREGORIAN
METHOD:PUBLISH
X-WR-CALNAME:Welcome to Beckenham Photographic Society
X-ORIGINAL-URL:https://bps9.beckenhamphotosoc.org.uk
X-WR-CALDESC:Events for Welcome to Beckenham Photographic Society
REFRESH-INTERVAL;VALUE=DURATION:PT1H
X-Robots-Tag:noindex
X-PUBLISHED-TTL:PT1H
BEGIN:VTIMEZONE
TZID:UTC
BEGIN:STANDARD
TZOFFSETFROM:+0000
TZOFFSETTO:+0000
TZNAME:UTC
DTSTART:20230101T000000
END:STANDARD
END:VTIMEZONE
BEGIN:VEVENT
DTSTART;TZID=UTC:20240306T194500
DTEND;TZID=UTC:20240306T220000
DTSTAMP:20260425T223557
CREATED:20230713T200032Z
LAST-MODIFIED:20230713T200032Z
UID:5703-1709754300-1709762400@bps9.beckenhamphotosoc.org.uk
SUMMARY:Print Panel Competition\, judged by Roger Mendham
DESCRIPTION:This competition is for panels of 5 to 9 prints on a theme. \nIt is split into two classes\, one for the Caithness Bowl and the other for the Blackbourn Trophy.
URL:https://bps9.beckenhamphotosoc.org.uk/event/print-panel-competition-judged-by-roger-mendham/
LOCATION:Beckenham
END:VEVENT
BEGIN:VEVENT
DTSTART;TZID=UTC:20240313T194500
DTEND;TZID=UTC:20240313T220000
DTSTAMP:20260425T223557
CREATED:20230713T200125Z
LAST-MODIFIED:20230713T200125Z
UID:5705-1710359100-1710367200@bps9.beckenhamphotosoc.org.uk
SUMMARY:Street Photography with David Gibson
DESCRIPTION:
URL:https://bps9.beckenhamphotosoc.org.uk/event/street-photography-with-david-gibson/
LOCATION:Beckenham
END:VEVENT
BEGIN:VEVENT
DTSTART;TZID=UTC:20240320T194500
DTEND;TZID=UTC:20240320T220000
DTSTAMP:20260425T223557
CREATED:20230713T200236Z
LAST-MODIFIED:20230713T200236Z
UID:5707-1710963900-1710972000@bps9.beckenhamphotosoc.org.uk
SUMMARY:Monochrome Print Competition\, judged by Dr Eddie Hyde FRPS
DESCRIPTION:
URL:https://bps9.beckenhamphotosoc.org.uk/event/monochrome-print-competition-judged-by-dr-eddie-hyde-frps/
LOCATION:Beckenham
END:VEVENT
BEGIN:VEVENT
DTSTART;TZID=UTC:20240327T194500
DTEND;TZID=UTC:20240327T220000
DTSTAMP:20260425T223557
CREATED:20230713T200508Z
LAST-MODIFIED:20240319T224143Z
UID:5709-1711568700-1711576800@bps9.beckenhamphotosoc.org.uk
SUMMARY:'Creative Macro Photography' with Guy Edwardes
DESCRIPTION:Guy Edwardes is a very highly regarded speaker\, who will be zooming IN TO THE HALL. \nHis website is very impressive and is https://www.guyedwardes.com/ \n 
URL:https://bps9.beckenhamphotosoc.org.uk/event/an-evening-with-guy-edwardes/
LOCATION:Beckenham
END:VEVENT
END:VCALENDAR