BEGIN:VCALENDAR
VERSION:2.0
PRODID:-//Welcome to Beckenham Photographic Society - ECPv6.15.15//NONSGML v1.0//EN
CALSCALE:GREGORIAN
METHOD:PUBLISH
X-ORIGINAL-URL:https://bps9.beckenhamphotosoc.org.uk
X-WR-CALDESC:Events for Welcome to Beckenham Photographic Society
REFRESH-INTERVAL;VALUE=DURATION:PT1H
X-Robots-Tag:noindex
X-PUBLISHED-TTL:PT1H
BEGIN:VTIMEZONE
TZID:UTC
BEGIN:STANDARD
TZOFFSETFROM:+0000
TZOFFSETTO:+0000
TZNAME:UTC
DTSTART:20230101T000000
END:STANDARD
END:VTIMEZONE
BEGIN:VEVENT
DTSTART;TZID=UTC:20240501T194500
DTEND;TZID=UTC:20240501T220000
DTSTAMP:20260426T013611
CREATED:20230713T201256Z
LAST-MODIFIED:20230713T201256Z
UID:5719-1714592700-1714600800@bps9.beckenhamphotosoc.org.uk
SUMMARY:AGM
DESCRIPTION:This is where you have your chance to volunteer for the committee.
URL:https://bps9.beckenhamphotosoc.org.uk/event/agm-3/
LOCATION:Beckenham
END:VEVENT
BEGIN:VEVENT
DTSTART;TZID=UTC:20240508T194500
DTEND;TZID=UTC:20240508T220000
DTSTAMP:20260426T013611
CREATED:20230713T201551Z
LAST-MODIFIED:20230713T201551Z
UID:5721-1715197500-1715205600@bps9.beckenhamphotosoc.org.uk
SUMMARY:End of Season Social
DESCRIPTION:Bring a partner
URL:https://bps9.beckenhamphotosoc.org.uk/event/end-of-season-social/
LOCATION:tba\, United Kingdom
END:VEVENT
BEGIN:VEVENT
DTSTART;TZID=UTC:20240513T110000
DTEND;TZID=UTC:20240513T170000
DTSTAMP:20260426T013611
CREATED:20240502T225012Z
LAST-MODIFIED:20240502T225012Z
UID:6305-1715598000-1715619600@bps9.beckenhamphotosoc.org.uk
SUMMARY:Nature Group trip to Hassocks Butterfly Garden
DESCRIPTION:One of the best tropical butterfly collections\navailable\, with an active breeding programme and excellent facilities for photographers. A\nmacro lens essential and flash useful. This weekday trip during term time is likely to be less\nbusy than at weekends. For those members who are unable to make weekdays\, a second\,\nweekend trip to Hassocks is planned for later in the year. Meet in the car park at the garden\nat 11.00am. Journey time by car from Beckenham around 1.5 – 2 hours. Let Julia Andrew\nknow in advance if you would like a lift. Members should order\ntheir own entry tickets online in advance. Tickets cost £6.50 for adults of any age. Go to:\nhttps://www.sussexbutterflygardens.co.uk/
URL:https://bps9.beckenhamphotosoc.org.uk/event/nature-group-trip-to-hassocks-butterfly-garden/
LOCATION:Location described in Text
CATEGORIES:Nature Group
END:VEVENT
BEGIN:VEVENT
DTSTART;TZID=UTC:20240514T193000
DTEND;TZID=UTC:20240514T213000
DTSTAMP:20260426T013611
CREATED:20240502T224611Z
LAST-MODIFIED:20240502T224611Z
UID:6303-1715715000-1715722200@bps9.beckenhamphotosoc.org.uk
SUMMARY:Nature Group Image Review
DESCRIPTION:
URL:https://bps9.beckenhamphotosoc.org.uk/event/nature-group-image-review/
LOCATION:Zoom at Home
CATEGORIES:Nature Group
END:VEVENT
END:VCALENDAR