BEGIN:VCALENDAR
VERSION:2.0
PRODID:-//Welcome to Beckenham Photographic Society - ECPv6.15.15//NONSGML v1.0//EN
CALSCALE:GREGORIAN
METHOD:PUBLISH
X-ORIGINAL-URL:https://bps9.beckenhamphotosoc.org.uk
X-WR-CALDESC:Events for Welcome to Beckenham Photographic Society
REFRESH-INTERVAL;VALUE=DURATION:PT1H
X-Robots-Tag:noindex
X-PUBLISHED-TTL:PT1H
BEGIN:VTIMEZONE
TZID:UTC
BEGIN:STANDARD
TZOFFSETFROM:+0000
TZOFFSETTO:+0000
TZNAME:UTC
DTSTART:20230101T000000
END:STANDARD
END:VTIMEZONE
BEGIN:VEVENT
DTSTART;TZID=UTC:20240714T120000
DTEND;TZID=UTC:20240714T170000
DTSTAMP:20260426T042626
CREATED:20240502T225507Z
LAST-MODIFIED:20240502T225737Z
UID:6310-1720958400-1720976400@bps9.beckenhamphotosoc.org.uk
SUMMARY:Nature Group Midday walk around a Community Garden  in Kennington.
DESCRIPTION:Midday walk around a Community Garden close to the junction\nbetween Brixton Road and Caldwell Street in Kennington. This city-centre gem of a\ncommunity flower garden\, created and maintained for a number of years by local people\, is\nhidden away amongst the flats and high-density housing of Kennington. From late morning\non wards in July and August\, it teems with butterflies\, bees\, dragonflies\, other insects and\nbirds. Macro and long lenses both useful. Not so easy to find parking spaces\, but excellent\ntransport links by bus\, train and tube (Northern Line). Meet at the junction of Brixton Rd\nand Caldwell Street at 12.00 midday.
URL:https://bps9.beckenhamphotosoc.org.uk/event/nature-group-midday-walk-around-a-community-garden-in-kennington/
LOCATION:Location described in Text
CATEGORIES:Nature Group
END:VEVENT
BEGIN:VEVENT
DTSTART;TZID=UTC:20240730T193000
DTEND;TZID=UTC:20240730T213000
DTSTAMP:20260426T042626
CREATED:20240502T225905Z
LAST-MODIFIED:20240502T230048Z
UID:6313-1722367800-1722375000@bps9.beckenhamphotosoc.org.uk
SUMMARY:Nature Group Image Review
DESCRIPTION:
URL:https://bps9.beckenhamphotosoc.org.uk/event/nature-group-image-review-2/
LOCATION:Zoom at Home
CATEGORIES:Nature Group
END:VEVENT
END:VCALENDAR