BEGIN:VCALENDAR
VERSION:2.0
PRODID:-//Welcome to Beckenham Photographic Society - ECPv6.15.15//NONSGML v1.0//EN
CALSCALE:GREGORIAN
METHOD:PUBLISH
X-WR-CALNAME:Welcome to Beckenham Photographic Society
X-ORIGINAL-URL:https://bps9.beckenhamphotosoc.org.uk
X-WR-CALDESC:Events for Welcome to Beckenham Photographic Society
REFRESH-INTERVAL;VALUE=DURATION:PT1H
X-Robots-Tag:noindex
X-PUBLISHED-TTL:PT1H
BEGIN:VTIMEZONE
TZID:UTC
BEGIN:STANDARD
TZOFFSETFROM:+0000
TZOFFSETTO:+0000
TZNAME:UTC
DTSTART:20230101T000000
END:STANDARD
END:VTIMEZONE
BEGIN:VEVENT
DTSTART;TZID=UTC:20240904T194500
DTEND;TZID=UTC:20240904T220000
DTSTAMP:20260426T013545
CREATED:20240731T195258Z
LAST-MODIFIED:20240731T195258Z
UID:6364-1725479100-1725487200@bps9.beckenhamphotosoc.org.uk
SUMMARY:An Evening with Polina Plotnikova FRPS\, EFIAP
DESCRIPTION:Polina Plotnikova is a well known speaker and workshopper and is one of britain’s foremost flower photographers.
URL:https://bps9.beckenhamphotosoc.org.uk/event/an-evening-with-polina-plotnikova-frps-efiap/
LOCATION:St Johns Church Hall\, Eden Park Road\, Beckenham BR3 3JN\, St Johns Church Hall\, Beckenham\, Kent\, BR3 3JN\, United Kingdom
CATEGORIES:Meetings,Normal Meeting
END:VEVENT
BEGIN:VEVENT
DTSTART;TZID=UTC:20240910T193000
DTEND;TZID=UTC:20240910T213000
DTSTAMP:20260426T013545
CREATED:20240502T230012Z
LAST-MODIFIED:20240502T230012Z
UID:6315-1725996600-1726003800@bps9.beckenhamphotosoc.org.uk
SUMMARY:Nature Group Image Review
DESCRIPTION:
URL:https://bps9.beckenhamphotosoc.org.uk/event/nature-group-image-review-3/
LOCATION:Beckenham
END:VEVENT
BEGIN:VEVENT
DTSTART;TZID=UTC:20240911T194500
DTEND;TZID=UTC:20240911T220000
DTSTAMP:20260426T013545
CREATED:20240731T195528Z
LAST-MODIFIED:20240904T155430Z
UID:6366-1726083900-1726092000@bps9.beckenhamphotosoc.org.uk
SUMMARY:The Power of the Headshot with Nick Gregan
DESCRIPTION:Anyone can take a headshot. It’s just a photo from the shoulders up\, right? \nNick Gregan has no qualifications\, no formal training\, no membership of any photographic bodies and has never won an award or entered a competition. \nBut he has been an expert headshot photographer for almost 30 years. \nIn that time he has photographed everyone from actors\, authors\, comedians\, sports stars and politicians right through to entrepreneurs\, local business people\, models\, child performers and just about everyone in between. \nThe power of the headshot takes you through the creative process and explains why not just  anyone can take the right headshot for the right market. \nHe also runs workshops which I will send details around shortly.
URL:https://bps9.beckenhamphotosoc.org.uk/event/the-power-of-the-headshot-with-nick-gregan/
LOCATION:St Johns Church Hall\, Eden Park Road\, Beckenham BR3 3JN\, St Johns Church Hall\, Beckenham\, Kent\, BR3 3JN\, United Kingdom
CATEGORIES:Meetings,Normal Meeting
ATTACH;FMTTYPE=image/jpeg:https://bps9.beckenhamphotosoc.org.uk/wp-content/uploads/2024/07/Power-of-The-Headshot-Thumbnail_2.jpeg
END:VEVENT
BEGIN:VEVENT
DTSTART;TZID=UTC:20240918T194500
DTEND;TZID=UTC:20240925T220000
DTSTAMP:20260426T013545
CREATED:20240731T200020Z
LAST-MODIFIED:20240812T213335Z
UID:6370-1726688700-1727301600@bps9.beckenhamphotosoc.org.uk
SUMMARY:Skills Carousel
DESCRIPTION:An interactive evening valuable to anyone who would like to learn. Will include a session on preparing and entering competitions.
URL:https://bps9.beckenhamphotosoc.org.uk/event/skills-carousel/
LOCATION:St Johns Church Hall\, Eden Park Road\, Beckenham BR3 3JN\, St Johns Church Hall\, Beckenham\, Kent\, BR3 3JN\, United Kingdom
END:VEVENT
BEGIN:VEVENT
DTSTART;TZID=UTC:20240925T194500
DTEND;TZID=UTC:20240925T220000
DTSTAMP:20260426T013545
CREATED:20240731T195735Z
LAST-MODIFIED:20240820T170103Z
UID:6368-1727293500-1727301600@bps9.beckenhamphotosoc.org.uk
SUMMARY:Photography on the darkside: London Nights with Peter Benson FRPS\, CPAGB\, BPE3
DESCRIPTION:“Photography on the Darkside\, London Nights.” \nPeter Benson FRPS MCrGP AWPF CPAGB BPE3\, is a keen urban nightscape photographer. During this talk Peter takes us back into the history of Night Photography running alongside his family history in Photography and then on a tour around some of his favourite places for night photography in and around London. Here you can join Peter in exploring the magical beauty of the night\, one frame at a time immersing yourself in the mesmerising urban nightscapes captured through his lens. During this journey he’ll be giving some hints and tips along the way sprinkled with a bit of history about some of the places\, so there is something for everyone. \n   
URL:https://bps9.beckenhamphotosoc.org.uk/event/photography-on-the-darkside-london-nights-with-peter-benson-frps-cpagb-bpe3/
LOCATION:St Johns Church Hall\, Eden Park Road\, Beckenham BR3 3JN\, St Johns Church Hall\, Beckenham\, Kent\, BR3 3JN\, United Kingdom
CATEGORIES:Meetings,Normal Meeting
ATTACH;FMTTYPE=image/jpeg:https://bps9.beckenhamphotosoc.org.uk/wp-content/uploads/2024/07/The-Basin-10-2021.jpg
END:VEVENT
BEGIN:VEVENT
DTSTART;TZID=UTC:20240929T110000
DTEND;TZID=UTC:20240929T170000
DTSTAMP:20260426T013545
CREATED:20240502T230243Z
LAST-MODIFIED:20240502T230243Z
UID:6318-1727607600-1727629200@bps9.beckenhamphotosoc.org.uk
SUMMARY:Nature Group Return to Hassocks Butterfly Garden
DESCRIPTION:As on the first trip to Hassocks\, meet in the car park at the garden at 11.00am. Journey time by car from\nBeckenham around 1.5 – 2 hours. Let Julia Andrew know well in advance if you would like a lift. Members should order their tickets online in advance.\nTickets cost £6.50 for adults of any age. Go to: https://www.sussexbutterflygardens.co.uk/
URL:https://bps9.beckenhamphotosoc.org.uk/event/nature-group-return-to-hassocks-butterfly-garden/
LOCATION:Beckenham
CATEGORIES:Nature Group
END:VEVENT
END:VCALENDAR