BEGIN:VCALENDAR
VERSION:2.0
PRODID:-//Welcome to Beckenham Photographic Society - ECPv6.15.15//NONSGML v1.0//EN
CALSCALE:GREGORIAN
METHOD:PUBLISH
X-WR-CALNAME:Welcome to Beckenham Photographic Society
X-ORIGINAL-URL:https://bps9.beckenhamphotosoc.org.uk
X-WR-CALDESC:Events for Welcome to Beckenham Photographic Society
REFRESH-INTERVAL;VALUE=DURATION:PT1H
X-Robots-Tag:noindex
X-PUBLISHED-TTL:PT1H
BEGIN:VTIMEZONE
TZID:UTC
BEGIN:STANDARD
TZOFFSETFROM:+0000
TZOFFSETTO:+0000
TZNAME:UTC
DTSTART:20230101T000000
END:STANDARD
END:VTIMEZONE
BEGIN:VEVENT
DTSTART;TZID=UTC:20241002T194500
DTEND;TZID=UTC:20241002T220000
DTSTAMP:20260426T000446
CREATED:20240731T200150Z
LAST-MODIFIED:20240731T200908Z
UID:6372-1727898300-1727906400@bps9.beckenhamphotosoc.org.uk
SUMMARY:Round 1 PDI competition judged by Caroline Preece LRPS
DESCRIPTION:
URL:https://bps9.beckenhamphotosoc.org.uk/event/round-1-pdi-competition-judged-by-caroline-preece-lrps/
LOCATION:St Johns Church Hall\, Eden Park Road\, Beckenham BR3 3JN\, St Johns Church Hall\, Beckenham\, Kent\, BR3 3JN\, United Kingdom
END:VEVENT
BEGIN:VEVENT
DTSTART;TZID=UTC:20241009T194500
DTEND;TZID=UTC:20241009T220000
DTSTAMP:20260426T000446
CREATED:20240731T200341Z
LAST-MODIFIED:20240731T200822Z
UID:6374-1728503100-1728511200@bps9.beckenhamphotosoc.org.uk
SUMMARY:Retina Cup judged by David Smith
DESCRIPTION:A friendly competition with South London PS
URL:https://bps9.beckenhamphotosoc.org.uk/event/retina-cup-judged-by-david-smith/
LOCATION:Beckenham
END:VEVENT
BEGIN:VEVENT
DTSTART;TZID=UTC:20241013T110000
DTEND;TZID=UTC:20241013T170000
DTSTAMP:20260426T000446
CREATED:20240502T230552Z
LAST-MODIFIED:20240502T230552Z
UID:6320-1728817200-1728838800@bps9.beckenhamphotosoc.org.uk
SUMMARY:Nature Group Fungi walk at Selsdon Wood Nature Reserve
DESCRIPTION:Fungi walk at \nSelsdon Wood Nature Reserve\, \nOld Farleigh Road \nSelsdon CR0 9HW \nUnited Kingdom \nThe final trip of the year is closer to home ground –\njust a short trip to Selsdon Wood Nature Reserve to hunt for fungi. Meet in the car park off\nOld Farleigh Road at 11.00. Macro and long lenses both useful.
URL:https://bps9.beckenhamphotosoc.org.uk/event/nature-group-fungi-walk-at-selsdon-wood-nature-reserve/
LOCATION:Beckenham
CATEGORIES:Nature Group
END:VEVENT
BEGIN:VEVENT
DTSTART;TZID=UTC:20241016T194500
DTEND;TZID=UTC:20241016T220000
DTSTAMP:20260426T000446
CREATED:20240731T200513Z
LAST-MODIFIED:20240904T154927Z
UID:6376-1729107900-1729116000@bps9.beckenhamphotosoc.org.uk
SUMMARY:Round 1 Print Competition - judged by Rosemary Wilman Frps
DESCRIPTION:
URL:https://bps9.beckenhamphotosoc.org.uk/event/round-1-print-competition-judge-to-be-announced/
LOCATION:St Johns Church Hall\, Eden Park Road\, Beckenham BR3 3JN\, St Johns Church Hall\, Beckenham\, Kent\, BR3 3JN\, United Kingdom
END:VEVENT
BEGIN:VEVENT
DTSTART;TZID=UTC:20241023T194500
DTEND;TZID=UTC:20241023T220000
DTSTAMP:20260426T000446
CREATED:20240731T201839Z
LAST-MODIFIED:20240914T165129Z
UID:6386-1729712700-1729720800@bps9.beckenhamphotosoc.org.uk
SUMMARY:London Streets: The monopoly project with Peter Merry
DESCRIPTION:
URL:https://bps9.beckenhamphotosoc.org.uk/event/london-streets-the-monopoly-project-with-peter-merry/
LOCATION:Beckenham
END:VEVENT
BEGIN:VEVENT
DTSTART;TZID=UTC:20241029T193000
DTEND;TZID=UTC:20241029T213000
DTSTAMP:20260426T000446
CREATED:20240502T230713Z
LAST-MODIFIED:20240502T230713Z
UID:6322-1730230200-1730237400@bps9.beckenhamphotosoc.org.uk
SUMMARY:Nature Group Image Review
DESCRIPTION:
URL:https://bps9.beckenhamphotosoc.org.uk/event/nature-group-image-review-4/
LOCATION:Beckenham
CATEGORIES:Nature Group
END:VEVENT
BEGIN:VEVENT
DTSTART;TZID=UTC:20241030T194500
DTEND;TZID=UTC:20241030T220000
DTSTAMP:20260426T000446
CREATED:20240731T201210Z
LAST-MODIFIED:20240731T201210Z
UID:6380-1730317500-1730325600@bps9.beckenhamphotosoc.org.uk
SUMMARY:Feel the Land - Photography and Emotion with Astrid McGechan
DESCRIPTION:
URL:https://bps9.beckenhamphotosoc.org.uk/event/feel-the-land-photography-and-emotion-with-astrid-mcgechan/
LOCATION:St Johns Church Hall\, Eden Park Road\, Beckenham BR3 3JN\, St Johns Church Hall\, Beckenham\, Kent\, BR3 3JN\, United Kingdom
END:VEVENT
END:VCALENDAR