BEGIN:VCALENDAR
VERSION:2.0
PRODID:-//Welcome to Beckenham Photographic Society - ECPv6.15.15//NONSGML v1.0//EN
CALSCALE:GREGORIAN
METHOD:PUBLISH
X-ORIGINAL-URL:https://bps9.beckenhamphotosoc.org.uk
X-WR-CALDESC:Events for Welcome to Beckenham Photographic Society
REFRESH-INTERVAL;VALUE=DURATION:PT1H
X-Robots-Tag:noindex
X-PUBLISHED-TTL:PT1H
BEGIN:VTIMEZONE
TZID:UTC
BEGIN:STANDARD
TZOFFSETFROM:+0000
TZOFFSETTO:+0000
TZNAME:UTC
DTSTART:20230101T000000
END:STANDARD
END:VTIMEZONE
BEGIN:VEVENT
DTSTART;TZID=UTC:20241204T194500
DTEND;TZID=UTC:20241204T220000
DTSTAMP:20260425T211147
CREATED:20240731T202203Z
LAST-MODIFIED:20240731T202203Z
UID:6390-1733341500-1733349600@bps9.beckenhamphotosoc.org.uk
SUMMARY:Members Evening
DESCRIPTION:topic to be decided.
URL:https://bps9.beckenhamphotosoc.org.uk/event/members-evening-5/
LOCATION:St Johns Church Hall\, Eden Park Road\, Beckenham BR3 3JN\, St Johns Church Hall\, Beckenham\, Kent\, BR3 3JN\, United Kingdom
END:VEVENT
BEGIN:VEVENT
DTSTART;TZID=UTC:20241211T194500
DTEND;TZID=UTC:20241211T220000
DTSTAMP:20260425T211147
CREATED:20240731T202357Z
LAST-MODIFIED:20240731T202357Z
UID:6392-1733946300-1733954400@bps9.beckenhamphotosoc.org.uk
SUMMARY:Round 2 Print Competition judged by Ken Scott ARPS. APAGB\, GMBPsS
DESCRIPTION:
URL:https://bps9.beckenhamphotosoc.org.uk/event/round-2-print-competition-judged-by-ken-scott-arps-apagb-gmbpss/
LOCATION:St Johns Church Hall\, Eden Park Road\, Beckenham BR3 3JN\, St Johns Church Hall\, Beckenham\, Kent\, BR3 3JN\, United Kingdom
END:VEVENT
BEGIN:VEVENT
DTSTART;TZID=UTC:20241218T194500
DTEND;TZID=UTC:20241218T220000
DTSTAMP:20260425T211147
CREATED:20240731T202627Z
LAST-MODIFIED:20240731T202640Z
UID:6395-1734551100-1734559200@bps9.beckenhamphotosoc.org.uk
SUMMARY:Christmas Social Event
DESCRIPTION:
URL:https://bps9.beckenhamphotosoc.org.uk/event/christmas-social-event-4/
LOCATION:St Johns Church Hall\, Eden Park Road\, Beckenham BR3 3JN\, St Johns Church Hall\, Beckenham\, Kent\, BR3 3JN\, United Kingdom
END:VEVENT
END:VCALENDAR