BEGIN:VCALENDAR
VERSION:2.0
PRODID:-//Welcome to Beckenham Photographic Society - ECPv6.15.15//NONSGML v1.0//EN
CALSCALE:GREGORIAN
METHOD:PUBLISH
X-ORIGINAL-URL:https://bps9.beckenhamphotosoc.org.uk
X-WR-CALDESC:Events for Welcome to Beckenham Photographic Society
REFRESH-INTERVAL;VALUE=DURATION:PT1H
X-Robots-Tag:noindex
X-PUBLISHED-TTL:PT1H
BEGIN:VTIMEZONE
TZID:UTC
BEGIN:STANDARD
TZOFFSETFROM:+0000
TZOFFSETTO:+0000
TZNAME:UTC
DTSTART:20240101T000000
END:STANDARD
END:VTIMEZONE
BEGIN:VEVENT
DTSTART;TZID=UTC:20250212T194500
DTEND;TZID=UTC:20250212T220000
DTSTAMP:20260425T182633
CREATED:20240731T203640Z
LAST-MODIFIED:20240731T203640Z
UID:6409-1739389500-1739397600@bps9.beckenhamphotosoc.org.uk
SUMMARY:Perigny Exchange Evening run by Angela Ford ARPS
DESCRIPTION:The theme this year is ‘Face to Face’ and our French twin Perigny will be showing their interpretation and we will be showing ours.
URL:https://bps9.beckenhamphotosoc.org.uk/event/perigny-exchange-evening-run-by-angela-ford-arps/
LOCATION:St Johns Church Hall\, Eden Park Road\, Beckenham BR3 3JN\, St Johns Church Hall\, Beckenham\, Kent\, BR3 3JN\, United Kingdom
END:VEVENT
BEGIN:VEVENT
DTSTART;TZID=UTC:20250219T194500
DTEND;TZID=UTC:20250219T220000
DTSTAMP:20260425T182633
CREATED:20240731T204036Z
LAST-MODIFIED:20250212T231937Z
UID:6411-1739994300-1740002400@bps9.beckenhamphotosoc.org.uk
SUMMARY:Annual Exhibition judged by Dr Eddie Hyde FRPS
DESCRIPTION:
URL:https://bps9.beckenhamphotosoc.org.uk/event/annual-exhibition-judged-by-dr-eddie-hyde-prps/
LOCATION:Christ Church\, Beckenham
END:VEVENT
BEGIN:VEVENT
DTSTART;TZID=UTC:20250226T194500
DTEND;TZID=UTC:20250226T194500
DTSTAMP:20260425T182633
CREATED:20250121T211140Z
LAST-MODIFIED:20250206T134641Z
UID:6897-1740599100-1740599100@bps9.beckenhamphotosoc.org.uk
SUMMARY:'Wildlife of Costa Rica' with Ann Healey FRPS
DESCRIPTION:Note. Rearranged from feb 5th. \nMulti award-winning photographer Ann Healey will be presenting her talk ‘Wildlife of Costa Rica’. \nAnn has spent the last 15 years gaining her distinctions and accreditations\, to achieve photographic excellence. \nShe had two images shortlisted in the 2021 Close-up Photographer of the Year and in 2022\, was shortlisted in the British Wildlife Photography Awards. \nShe is also one of a select 60 photographers to have a print accepted in the prestigious Photographic Alliance of Great Britain (PAGB) Masters of Print in 2020\, 2021 and 2024\, winning a Silver Medal for a Judge’s Choice in 2021 and 2024. \nAnn is also an assessor on the Royal Photographic Society (RPS) Natural History Associate & Fellowship Panel. \nAnn is an Honorary Member of Richmond & Twickenham Photographic Society\, having held the \nposts of Honorary Secretary\, Programme Secretary\, Internal Competitions Organiser\, External \nCompetitions Organiser\, Forum Administrator and Leader of the Awards & Distinctions Special \nInterest Group over the years and\, more recently\, also joined Molesey Photographic Club\, where she \nis part of the External Competitions Selection Group. \nA former President of the Surrey Photographic Association (SPA)\, Ann is now the Chair of the SPA \nExhibitions & Events Sub-Committee\, organising the Biennial Exhibition and all Inter-Club \nCompetitions and events. \nAnn is renowned for her nature photography and club members will be treated to a plethora of photographs\, showing many different species\, showcasing the diverse and extensive range of amazing wildlife to be found in the various ecosystems of the country. \nHaving achieved both her RPS Natural History Associateship and Fellowship with images of Costa Rican wildlife\, these print panels will be on display on the night\, for attendees to view.
URL:https://bps9.beckenhamphotosoc.org.uk/event/wildlife-of-costa-rica-with-ann-healey-frps-dpagb/
LOCATION:St Johns Church Hall\, Eden Park Road\, Beckenham BR3 3JN\, St Johns Church Hall\, Beckenham\, Kent\, BR3 3JN\, United Kingdom
ATTACH;FMTTYPE=image/jpeg:https://bps9.beckenhamphotosoc.org.uk/wp-content/uploads/2025/01/Red-legged-Honeycreeper.jpg
END:VEVENT
END:VCALENDAR