BEGIN:VCALENDAR
VERSION:2.0
PRODID:-//Welcome to Beckenham Photographic Society - ECPv6.15.15//NONSGML v1.0//EN
CALSCALE:GREGORIAN
METHOD:PUBLISH
X-WR-CALNAME:Welcome to Beckenham Photographic Society
X-ORIGINAL-URL:https://bps9.beckenhamphotosoc.org.uk
X-WR-CALDESC:Events for Welcome to Beckenham Photographic Society
REFRESH-INTERVAL;VALUE=DURATION:PT1H
X-Robots-Tag:noindex
X-PUBLISHED-TTL:PT1H
BEGIN:VTIMEZONE
TZID:UTC
BEGIN:STANDARD
TZOFFSETFROM:+0000
TZOFFSETTO:+0000
TZNAME:UTC
DTSTART:20240101T000000
END:STANDARD
END:VTIMEZONE
BEGIN:VEVENT
DTSTART;TZID=UTC:20250402T194500
DTEND;TZID=UTC:20250402T220000
DTSTAMP:20260425T154242
CREATED:20240731T205742Z
LAST-MODIFIED:20250324T181411Z
UID:6424-1743623100-1743631200@bps9.beckenhamphotosoc.org.uk
SUMMARY:'Looking beyond a single image' with Vanda Ralevska
DESCRIPTION:
URL:https://bps9.beckenhamphotosoc.org.uk/event/an-evening-with-vanda-ralevska/
LOCATION:St Johns Church Hall\, Eden Park Road\, Beckenham BR3 3JN\, St Johns Church Hall\, Beckenham\, Kent\, BR3 3JN\, United Kingdom
ATTACH;FMTTYPE=image/jpeg:https://bps9.beckenhamphotosoc.org.uk/wp-content/uploads/2025/03/LookingBeyondASingleImage_01.jpg
END:VEVENT
BEGIN:VEVENT
DTSTART;TZID=UTC:20250409T194500
DTEND;TZID=UTC:20250409T220000
DTSTAMP:20260425T154242
CREATED:20240731T205858Z
LAST-MODIFIED:20240731T205858Z
UID:6426-1744227900-1744236000@bps9.beckenhamphotosoc.org.uk
SUMMARY:Round 4 PDI Competition judged by Amanda Wright
DESCRIPTION:
URL:https://bps9.beckenhamphotosoc.org.uk/event/round-4-pdi-competition-judged-by-amanda-wright/
LOCATION:St Johns Church Hall\, Eden Park Road\, Beckenham BR3 3JN\, St Johns Church Hall\, Beckenham\, Kent\, BR3 3JN\, United Kingdom
END:VEVENT
BEGIN:VEVENT
DTSTART;TZID=UTC:20250416T194500
DTEND;TZID=UTC:20250416T220000
DTSTAMP:20260425T154242
CREATED:20240731T210239Z
LAST-MODIFIED:20250325T201818Z
UID:6428-1744832700-1744840800@bps9.beckenhamphotosoc.org.uk
SUMMARY:Centenary Presentation with Rick Findler
DESCRIPTION:Fresh from a four-month US assignment covering the Presidential election for national newspapers\, Rick brings his mages and adrenaline-filled stories to Beckenham Photographic Society \nThe audience can expect an exciting evening from an award-winning photographer whose work has focused on many of the major conflicts of recent years.\nHear what Rick has to say about being in the thick of the action during the rise and fall of Isis in Syria and the riots in Hong Kong as well as his experience of the October 7 Hamas attacks in Israel and the election campaign that has brought massive change in the USA. \nThe Presentation takes place on Wednesday April 16th at St John’s Church Hall\, 251 Eden Park Avenue\, BR3 3JN starting\nat 8pm. \nTickets for visitors £10 on the door on the night include complimentary refreshments.
URL:https://bps9.beckenhamphotosoc.org.uk/event/centenary-presentation-with-rick-findler/
LOCATION:St Johns Church Hall\, Eden Park Road\, Beckenham BR3 3JN\, St Johns Church Hall\, Beckenham\, Kent\, BR3 3JN\, United Kingdom
ATTACH;FMTTYPE=image/jpeg:https://bps9.beckenhamphotosoc.org.uk/wp-content/uploads/2025/03/Findler-flyer.jpg
END:VEVENT
BEGIN:VEVENT
DTSTART;TZID=UTC:20250423T194500
DTEND;TZID=UTC:20250423T220000
DTSTAMP:20260425T154242
CREATED:20240731T210402Z
LAST-MODIFIED:20250408T134853Z
UID:6430-1745437500-1745445600@bps9.beckenhamphotosoc.org.uk
SUMMARY:Round 4 Print Competition judged by Tom Morland
DESCRIPTION:Tim has very kindly stepped on at short notice due to an oversight from us.
URL:https://bps9.beckenhamphotosoc.org.uk/event/round-4-print-competition-judged-by-roger-mendham/
LOCATION:St Johns Church Hall\, Eden Park Road\, Beckenham BR3 3JN\, St Johns Church Hall\, Beckenham\, Kent\, BR3 3JN\, United Kingdom
END:VEVENT
BEGIN:VEVENT
DTSTART;TZID=UTC:20250430T194500
DTEND;TZID=UTC:20250430T220000
DTSTAMP:20260425T154242
CREATED:20240731T210511Z
LAST-MODIFIED:20240731T210530Z
UID:6432-1746042300-1746050400@bps9.beckenhamphotosoc.org.uk
SUMMARY:Modern Ruins with Robin Hudson
DESCRIPTION:
URL:https://bps9.beckenhamphotosoc.org.uk/event/modern-ruins-with-robin-hudson/
LOCATION:St Johns Church Hall\, Eden Park Road\, Beckenham BR3 3JN\, St Johns Church Hall\, Beckenham\, Kent\, BR3 3JN\, United Kingdom
END:VEVENT
END:VCALENDAR