BEGIN:VCALENDAR
VERSION:2.0
PRODID:-//Welcome to Beckenham Photographic Society - ECPv6.15.15//NONSGML v1.0//EN
CALSCALE:GREGORIAN
METHOD:PUBLISH
X-ORIGINAL-URL:https://bps9.beckenhamphotosoc.org.uk
X-WR-CALDESC:Events for Welcome to Beckenham Photographic Society
REFRESH-INTERVAL;VALUE=DURATION:PT1H
X-Robots-Tag:noindex
X-PUBLISHED-TTL:PT1H
BEGIN:VTIMEZONE
TZID:UTC
BEGIN:STANDARD
TZOFFSETFROM:+0000
TZOFFSETTO:+0000
TZNAME:UTC
DTSTART:20240101T000000
END:STANDARD
END:VTIMEZONE
BEGIN:VEVENT
DTSTART;TZID=UTC:20250903T194500
DTEND;TZID=UTC:20250903T220000
DTSTAMP:20260423T102424
CREATED:20250520T202226Z
LAST-MODIFIED:20250520T202226Z
UID:7154-1756928700-1756936800@bps9.beckenhamphotosoc.org.uk
SUMMARY:An Evening with Angela Ford ARPS\, EFIAP/b
DESCRIPTION:
URL:https://bps9.beckenhamphotosoc.org.uk/event/an-evening-with-angela-ford-arps-efiap-b/
LOCATION:Harris Primary Academy\, Beckenham Green\, BR3 5JG\, St Georges Road\,\, Beckenham\, Beckenham\, GR3 5JG\, United Kingdom
CATEGORIES:Normal Meeting
END:VEVENT
BEGIN:VEVENT
DTSTART;TZID=UTC:20250909T193000
DTEND;TZID=UTC:20250909T213000
DTSTAMP:20260423T102424
CREATED:20250621T075010Z
LAST-MODIFIED:20250621T075010Z
UID:7254-1757446200-1757453400@bps9.beckenhamphotosoc.org.uk
SUMMARY:Nature Group Meeting
DESCRIPTION:
URL:https://bps9.beckenhamphotosoc.org.uk/event/nature-group-meeting/
LOCATION:Beckenham
CATEGORIES:Nature Group
END:VEVENT
BEGIN:VEVENT
DTSTART;TZID=UTC:20250910T194500
DTEND;TZID=UTC:20250910T220000
DTSTAMP:20260423T102424
CREATED:20250520T202403Z
LAST-MODIFIED:20250520T203153Z
UID:7156-1757533500-1757541600@bps9.beckenhamphotosoc.org.uk
SUMMARY:Members Evening  - Skills Carousel
DESCRIPTION:
URL:https://bps9.beckenhamphotosoc.org.uk/event/members-evening-skills-carousel/
LOCATION:Harris Primary Academy\, Beckenham Green\, BR3 5JG\, St Georges Road\,\, Beckenham\, Beckenham\, GR3 5JG\, United Kingdom
CATEGORIES:Normal Meeting
END:VEVENT
BEGIN:VEVENT
DTSTART;TZID=UTC:20250917T194500
DTEND;TZID=UTC:20250917T220000
DTSTAMP:20260423T102424
CREATED:20250520T202513Z
LAST-MODIFIED:20250520T203117Z
UID:7158-1758138300-1758146400@bps9.beckenhamphotosoc.org.uk
SUMMARY:My Wild Life with Phil Kirk
DESCRIPTION:
URL:https://bps9.beckenhamphotosoc.org.uk/event/my-wild-life/
LOCATION:Harris Primary Academy\, Beckenham Green\, BR3 5JG\, St Georges Road\,\, Beckenham\, Beckenham\, GR3 5JG\, United Kingdom
CATEGORIES:Normal Meeting
END:VEVENT
BEGIN:VEVENT
DTSTART;TZID=UTC:20250924T194500
DTEND;TZID=UTC:20250924T220000
DTSTAMP:20260423T102424
CREATED:20250520T202642Z
LAST-MODIFIED:20250520T203039Z
UID:7160-1758743100-1758751200@bps9.beckenhamphotosoc.org.uk
SUMMARY:Round 1 PDI Comp judged by Andrew Webster
DESCRIPTION:
URL:https://bps9.beckenhamphotosoc.org.uk/event/round-1-pdi-comp-judged-by-andrew-webster/
LOCATION:Harris Primary Academy\, Beckenham Green\, BR3 5JG\, St Georges Road\,\, Beckenham\, Beckenham\, GR3 5JG\, United Kingdom
CATEGORIES:Normal Meeting
END:VEVENT
BEGIN:VEVENT
DTSTART;TZID=UTC:20250929T194500
DTEND;TZID=UTC:20250929T194500
DTSTAMP:20260423T102424
CREATED:20250520T210852Z
LAST-MODIFIED:20250921T203249Z
UID:7192-1759175100-1759175100@bps9.beckenhamphotosoc.org.uk
SUMMARY:Retina Cup away at SLPS
DESCRIPTION:
URL:https://bps9.beckenhamphotosoc.org.uk/event/retina-cup-away-at-slps/
LOCATION:tba\, United Kingdom
CATEGORIES:External Comps
END:VEVENT
END:VCALENDAR